BEGIN:VCALENDAR
VERSION:2.0
PRODID:-//Events @ ICNA NY - ECPv6.15.20//NONSGML v1.0//EN
CALSCALE:GREGORIAN
METHOD:PUBLISH
X-ORIGINAL-URL:https://events.icnany.org
X-WR-CALDESC:Events for Events @ ICNA NY
REFRESH-INTERVAL;VALUE=DURATION:PT1H
X-Robots-Tag:noindex
X-PUBLISHED-TTL:PT1H
BEGIN:VTIMEZONE
TZID:UTC
BEGIN:STANDARD
TZOFFSETFROM:+0000
TZOFFSETTO:+0000
TZNAME:UTC
DTSTART:20230101T000000
END:STANDARD
END:VTIMEZONE
BEGIN:VEVENT
DTSTART;TZID=UTC:20240907T000000
DTEND;TZID=UTC:20250906T235959
DTSTAMP:20260425T025439
CREATED:20240726T203213Z
LAST-MODIFIED:20240726T203851Z
UID:10000105-1725667200-1757203199@events.icnany.org
SUMMARY:Quranic Arabic Class
DESCRIPTION:  \nWeekly Arabic classes at the ICNA Nassau Community Center taught by Ustadh Abu Hafsah! \n\nSchedule: Every Saturday from 11am to 1pm\nCourse text: Muhammad Ibn Saud Curriculum\nCourse price: $300\nCourse Length: 1 Year\nInstructor: Ustadh Abu Hafsah\n\nLearn to speak Arabic and understand the Qur’an as you hear it! This course will cover Arabic vocabulary\, syntax\, and morphology supplemented with hands on practice in breaking down Quranic verses and Arabic texts. \nThe course is open for all students including first time Arabic language learners and those looking to brush up on their Arabic skills. The only prerequisite is students must be able to read the Arabic alphabet and Arabic words/sentences. \nThe course is catered for working professionals and students (ages 13+). Open to brothers and sisters. \nFor questions related to this class\, please contact 347-634-7202.
URL:https://events.icnany.org/event/arabic/
LOCATION:ICNA Nassau Community Center\, 1529 Jericho Turnpike\, New Hyde Park\, NY\, 11040\, United States
CATEGORIES:Classes
ATTACH;FMTTYPE=image/png:https://events.icnany.org/wp-content/uploads/2024/07/Arabic-101-Banner-2024.png
END:VEVENT
BEGIN:VEVENT
DTSTART;TZID=UTC:20250405T000000
DTEND;TZID=UTC:20250405T235959
DTSTAMP:20260425T025439
CREATED:20250326T024928Z
LAST-MODIFIED:20250326T024928Z
UID:10000928-1743811200-1743897599@events.icnany.org
SUMMARY:March on Washington
DESCRIPTION:Join us as we head down to DC on April 5th to protest at the White House. \nLocation: 1529 Jericho Tpke\, New Hyde Park\, NY 11040 \nDeparture Time from New Hyde Park: 7:30am sharp \nDeparture Time from DC: 6pm
URL:https://events.icnany.org/event/april-march-dc/
LOCATION:ICNA Nassau Community Center\, 1529 Jericho Turnpike\, New Hyde Park\, NY\, 11040\, United States
CATEGORIES:Civic Engagement,Protests
ATTACH;FMTTYPE=image/jpeg:https://events.icnany.org/wp-content/uploads/2025/03/Image.jpg
END:VEVENT
BEGIN:VEVENT
DTSTART;TZID=UTC:20250405T000000
DTEND;TZID=UTC:20250405T235959
DTSTAMP:20260425T025439
CREATED:20250328T175242Z
LAST-MODIFIED:20250404T150259Z
UID:10000929-1743811200-1743897599@events.icnany.org
SUMMARY:March on Washington - Jamaica Bus
DESCRIPTION:Join us as we head down to DC on April 5th to protest at the White House. \nLocation: 166-26 89th Ave\, Jamaica NY 11432 \nDeparture Time from Jamaica: 7:30am sharp \nDeparture Time from DC: 6pm
URL:https://events.icnany.org/event/march-on-washington-jamaica-bus/
LOCATION:ICNA AL MARKAZ\, 166-26 89th Ave\, Jamaica\, NY\, 11432\, United States
CATEGORIES:Civic Engagement,Protests
ATTACH;FMTTYPE=image/jpeg:https://events.icnany.org/wp-content/uploads/2025/03/Image.jpg
END:VEVENT
END:VCALENDAR