BEGIN:VCALENDAR
VERSION:2.0
PRODID:-//Events @ ICNA NY - ECPv6.15.20//NONSGML v1.0//EN
CALSCALE:GREGORIAN
METHOD:PUBLISH
X-WR-CALNAME:Events @ ICNA NY
X-ORIGINAL-URL:https://events.icnany.org
X-WR-CALDESC:Events for Events @ ICNA NY
REFRESH-INTERVAL;VALUE=DURATION:PT1H
X-Robots-Tag:noindex
X-PUBLISHED-TTL:PT1H
BEGIN:VTIMEZONE
TZID:UTC
BEGIN:STANDARD
TZOFFSETFROM:+0000
TZOFFSETTO:+0000
TZNAME:UTC
DTSTART:20240101T000000
END:STANDARD
END:VTIMEZONE
BEGIN:VEVENT
DTSTART;TZID=UTC:20250427T170000
DTEND;TZID=UTC:20250430T230000
DTSTAMP:20260425T143521
CREATED:20250414T192806Z
LAST-MODIFIED:20250415T231918Z
UID:10000934-1745773200-1746054000@events.icnany.org
SUMMARY:10th Annual Muslim Advocacy Day
DESCRIPTION:The New York Chapters of ICNA\, & CAIR as members of the US Council of Muslim Organizations (USCMO) are proud to announce the official launch of the 10th annual National Muslim Advocacy Day on Capitol Hill\, slated to occur on Monday\, April 28\, and Tuesday\, April 29\, at the U.S. Capitol in Washington\, D.C! \nLimited Spots Available! If you are coming with MUNA please do not fill out this form. \nRepresentatives from national\, state\, and local Muslim organizations and communities are strongly encouraged to join this two-day advocacy event. Delegates and activists will engage with congressional offices to address the pressing issues affecting American Muslims amidst today’s political landscape. \nThe issues we’ll be focusing on include combating the alarming increase in anti-Muslim hate crimes\, safeguarding the free speech of Americans\, ensuring the U.S. government does not remain complicit in Israel’s genocide and occupation of Palestinians\, and more. \nParticipants of past events have shared their experiences through photos and commentary on social media platforms\, using the hashtag #MuslimHillDay.
URL:https://events.icnany.org/event/10th-annual-muslim-advocacy-day/
LOCATION:ICNA Nassau Community Center\, 1529 Jericho Turnpike\, New Hyde Park\, NY\, 11040\, United States
CATEGORIES:Civic Engagement
ATTACH;FMTTYPE=image/png:https://events.icnany.org/wp-content/uploads/2025/04/USCMO-10TH-ANNUAL.png
END:VEVENT
END:VCALENDAR