BEGIN:VCALENDAR
VERSION:2.0
PRODID:-//Events @ ICNA NY - ECPv6.15.20//NONSGML v1.0//EN
CALSCALE:GREGORIAN
METHOD:PUBLISH
X-WR-CALNAME:Events @ ICNA NY
X-ORIGINAL-URL:https://events.icnany.org
X-WR-CALDESC:Events for Events @ ICNA NY
REFRESH-INTERVAL;VALUE=DURATION:PT1H
X-Robots-Tag:noindex
X-PUBLISHED-TTL:PT1H
BEGIN:VTIMEZONE
TZID:UTC
BEGIN:STANDARD
TZOFFSETFROM:+0000
TZOFFSETTO:+0000
TZNAME:UTC
DTSTART:20240101T000000
END:STANDARD
END:VTIMEZONE
BEGIN:VEVENT
DTSTART;TZID=UTC:20250719T090000
DTEND;TZID=UTC:20250719T170000
DTSTAMP:20260425T154107
CREATED:20250703T030233Z
LAST-MODIFIED:20250703T030408Z
UID:10000940-1752915600-1752944400@events.icnany.org
SUMMARY:Muslim History Tour: Brooklyn Edition
DESCRIPTION:🕌 Muslim History Tour: Brooklyn Edition\nHosted by ICNA Nassau Community Center ✦ Guided by New York Narratives \n\n1 • Event Snapshot\n\n\n\n\n\n\n\n\n\n\nDate \n\n\nSaturday\, July 19\, 2025 \n\n\n\n\nMeet-Up \n\n\n9:15 AM at ICNA Nassau (1529 Jericho Tpke\, New Hyde Park NY 11040) \n\n\n\n\nReturn \n\n\nEarly evening\, same location \n\n\n\n\nPrice \n\n\n$50 per person \n\n\n\n\nGroup Size \n\n\nVery limited to ensure a personal experience \n\n\n\n\nJoin us for a moving journey through Brooklyn Heights & Cobble Hill\, uncovering centuries of Arab and Muslim presence\, faith\, and resilience in New York City. \n\n2 • What Your Ticket Includes\n\n\nRound-trip travel in a fully air-conditioned coach \n\n\nThree-hour guided walk led by New York Narratives’ expert historian \n\n\nCurated stops highlighting immigration\, religious life\,  labor & urban change \n\n\nLight refreshments on the bus and reflections led by Br. Zaman \n\n\n\n3 • Pre-Trip Checklist\n\n\n\n\n✅ \n\n\nAction \n\n\n\n\n\n\n\nReserve your seat below – registration closes when capacity is reached. \n\n\n\n\n\nWear comfortable walking shoes; expect ~1.5-2 miles of walking. \n\n\n\n\n\nCheck the weather; bring a reusable water bottle & sun protection. \n\n\n\n\n\nBring ID for check-in at ICNA Nassau. \n\n\n\n\n\n4 • Tentative Itinerary\n\n\n\n\nTime \n\n\nActivity \n\n\n\n\n\n\n9:15 AM \n\n\nCheck-in at ICNA Nassau \n\n\n\n\n9:30 AM \n\n\nDeparture to Brooklyn \n\n\n\n\n11:00 AM \n\n\nWalk Begins \n\n\n\n\n3:00 PM \n\n\nBus departs Brooklyn \n\n\n\n\n4:30 PM \n\n\nArrive back at ICNA Nassau \n\n\n\n\nTimes may shift slightly due to traffic. \n\n5 • Frequently Asked Questions\nIs the tour family-friendly? \nYes\, youth 12+ are welcome with a responsible adult. Strollers not recommended due to narrow sidewalks. \nAccessibility? \nThe route includes some inclines and uneven pavement. \nRain plan? \nTours run rain or shine; severe-weather cancellations will be emailed by 7 AM. \nRefund policy? \nTickets are non-refundable but transferable. If you can’t attend\, you may gift your seat to someone else (inform us by July 17). \n\n6 • Secure Your Seat\nClick “Register Now” and complete the short form. You’ll receive a confirmation email within minutes. \nBismillah – let’s walk together\, learn together\, and strengthen the ties that bind our diverse ummah to the wider New York story. \nWe can’t wait to explore Brooklyn’s Muslim heritage with you! \n\n 
URL:https://events.icnany.org/event/muslim-history-tour-brooklyn-edition/
LOCATION:ICNA Nassau Community Center\, 1529 Jericho Turnpike\, New Hyde Park\, NY\, 11040\, United States
CATEGORIES:Classes,Outdoor Activities
ATTACH;FMTTYPE=image/png:https://events.icnany.org/wp-content/uploads/2025/07/COHORT-1-3.png
END:VEVENT
END:VCALENDAR