BEGIN:VCALENDAR
VERSION:2.0
PRODID:-//Events @ ICNA NY - ECPv6.15.20//NONSGML v1.0//EN
CALSCALE:GREGORIAN
METHOD:PUBLISH
X-ORIGINAL-URL:https://events.icnany.org
X-WR-CALDESC:Events for Events @ ICNA NY
REFRESH-INTERVAL;VALUE=DURATION:PT1H
X-Robots-Tag:noindex
X-PUBLISHED-TTL:PT1H
BEGIN:VTIMEZONE
TZID:UTC
BEGIN:STANDARD
TZOFFSETFROM:+0000
TZOFFSETTO:+0000
TZNAME:UTC
DTSTART:20240101T000000
END:STANDARD
END:VTIMEZONE
BEGIN:VEVENT
DTSTART;TZID=UTC:20250906T000000
DTEND;TZID=UTC:20260905T235959
DTSTAMP:20260423T230802
CREATED:20250712T213615Z
LAST-MODIFIED:20250816T235521Z
UID:10000941-1757116800-1788652799@events.icnany.org
SUMMARY:Quranic Arabic Class 101
DESCRIPTION:  \nIntroductory Weekly Arabic classes at the ICNA Nassau Community Center taught by Ustadh Abu Hafsah! \n\nSchedule: Every Saturday from 12pm to 2pm\nCourse text: Muhammad Ibn Saud Curriculum\nCourse price: $350\nCourse Length: 1 Year\nInstructor: Ustadh Abu Hafsah\n\nLearn to speak Arabic and understand the Qur’an as you hear it! This course will cover Arabic vocabulary\, syntax\, and morphology supplemented with hands on practice in breaking down Quranic verses and Arabic texts. \nThe course is open for all students including first time Arabic language learners and those looking to brush up on their Arabic skills. The only prerequisite is students must be able to read the Arabic alphabet and Arabic words/sentences. \nThe course is catered for working professionals and students (ages 13+). Open to brothers and sisters. \nFor questions related to this class\, please contact 347-634-7202.
URL:https://events.icnany.org/event/quranic-arabic-class-101/
LOCATION:ICNA Nassau Community Center\, 1529 Jericho Turnpike\, New Hyde Park\, NY\, 11040\, United States
CATEGORIES:Classes
ATTACH;FMTTYPE=image/jpeg:https://events.icnany.org/wp-content/uploads/2025/07/arabic101.jpeg
END:VEVENT
BEGIN:VEVENT
DTSTART;TZID=UTC:20250906T000000
DTEND;TZID=UTC:20260905T235959
DTSTAMP:20260423T230802
CREATED:20250712T213805Z
LAST-MODIFIED:20250712T213805Z
UID:10000942-1757116800-1788652799@events.icnany.org
SUMMARY:Quranic Arabic Class 202
DESCRIPTION:  \nIntermediate level weekly Arabic classes at the ICNA Nassau Community Center taught by Ustadh Abu Hafsah! \n\nSchedule: Every Saturday from 10am to 12pm\nCourse text: Muhammad Ibn Saud Curriculum\nCourse price: $350\nCourse Length: 1 Year\nInstructor: Ustadh Abu Hafsah\n\nContinue your Arabic journey with this level 2 Arabic course! This course will delve into advanced Arabic vocabulary\, syntax\, and morphology supplemented with hands on practice in breaking down Quranic verses and Arabic texts. \nThe course is open for students with a minimum of 1 year of Arabic experience or lessons. This includes completing the Muhammad ibn Saud book 1 or other Arabic courses such as the Medina series books 1 & 2\, etc. If you are unsure if the class is a good fit for you\, please reach out to the admin at 347-634-7202. \nThe course is catered for working professionals and students (ages 13+). Open to brothers and sisters. \nFor questions related to this class\, please contact 347-634-7202.
URL:https://events.icnany.org/event/quranic-arabic-class-202/
LOCATION:ICNA Nassau Community Center\, 1529 Jericho Turnpike\, New Hyde Park\, NY\, 11040\, United States
CATEGORIES:Classes
END:VEVENT
BEGIN:VEVENT
DTSTART;TZID=UTC:20260110T073000
DTEND;TZID=UTC:20260328T083000
DTSTAMP:20260423T230802
CREATED:20251227T040542Z
LAST-MODIFIED:20260112T011112Z
UID:10001021-1768030200-1774686600@events.icnany.org
SUMMARY:Sisters Only Self-Defense Program
DESCRIPTION:Registration Now Open: Sisters Self-Defense Program  \nAlhamdulillah\, ICNA Nassau is continuing our Sisters Self-Defense Program after the successful completion of the first 10-week session. This upcoming session builds on the same practical\, real-world self-defense training and is open to both returning participants and sisters joining for the first time. \nThis is a women-only class\, taught by a certified female instructor. No prior experience is needed — newcomers are absolutely welcome. \nWhat you’ll gain: \nPractical self-defense skills for everyday situations \nImproved fitness\, strength\, and confidence \nIncreased awareness and personal safety \nA safe\, supportive environment with other sisters \nProgram Details: \nStart Date: January 2026 \nDay & Time: Saturdays\, 7:30 am – 8:30 am \nSessions: 10 classes total \nFee: $200 (limited to 16 participants) \nOpen to women; teen girls are welcome. Together\, we’ll continue building skills\, health\, and sisterhood — Insha’Allah. \n📍 Location: ICNA Nassau Community Center1529 Jericho Turnpike\, New Hyde Park\, NY 11040 \n📲 Register today — spots are limited!
URL:https://events.icnany.org/event/sisters-only-self-defense-program/
LOCATION:ICNA Nassau Community Center\, 1529 Jericho Turnpike\, New Hyde Park\, NY\, 11040\, United States
ATTACH;FMTTYPE=image/jpeg:https://events.icnany.org/wp-content/uploads/2025/12/WhatsApp-Image-2026-01-10-at-12.43.12-scaled.jpeg
END:VEVENT
BEGIN:VEVENT
DTSTART;TZID=UTC:20260201T150000
DTEND;TZID=UTC:20260201T180000
DTSTAMP:20260423T230802
CREATED:20260123T031747Z
LAST-MODIFIED:20260123T032111Z
UID:10001023-1769958000-1769968800@events.icnany.org
SUMMARY:Welcome Ramadan Event
DESCRIPTION:Assalamu Alaikum wa Rahmatullah\, \nAs we prepare our hearts and homes for Ramadan\, ICNA Nassau invites you and your family to join us for a Pre-Ramadan community evening at the center. This gathering is a chance to slow down\, share a meal\, and prepare together for the blessed month ahead. \nThe evening will begin with a brief welcome\, followed by dinner. Children ages 10 and under will have a dedicated space for hands-on activities\, including painting bird houses and helping assemble Ramadan goodie bags for the center. It’s meant to be a relaxed and welcoming time for families to connect and feel at home. \n Sunday\, February 1st  3:00 PM – 6:00 PM ICNA Nassau Community Center \nWe look forward to welcoming you and beginning this Ramadan season together\, inshaAllah. \n– Your ICNA Nassau Family
URL:https://events.icnany.org/event/welcome-ramadan-event-3/
LOCATION:ICNA Nassau Community Center\, 1529 Jericho Turnpike\, New Hyde Park\, NY\, 11040\, United States
ATTACH;FMTTYPE=image/png:https://events.icnany.org/wp-content/uploads/2026/01/Real-Estate-Flyer-Feb-1-2026.png
END:VEVENT
BEGIN:VEVENT
DTSTART;TZID=UTC:20260215T173000
DTEND;TZID=UTC:20260215T200000
DTSTAMP:20260423T230802
CREATED:20260130T033359Z
LAST-MODIFIED:20260215T212232Z
UID:10001024-1771176600-1771185600@events.icnany.org
SUMMARY:ICNA Nassau CSJ Welcome Ramadan Event
DESCRIPTION:🌙 Welcome Ramadan Community Gathering 🌙 \nJoin ICNA Nassau CSJ for a special evening as we come together to welcome the blessed month of Ramadan. This gathering is an opportunity for reflection\, spiritual renewal\, and strengthening our bonds as a community. Through meaningful conversation and shared purpose\, we prepare our hearts and minds for a month centered on faith\, compassion\, and service. \nThis event is open to individuals and families of all backgrounds who wish to learn\, connect\, and embrace the spirit of Ramadan in a warm and welcoming environment. \n📅 Sunday\, February 15⏰ 5:30 – 8:00 PM📍 Hosted by ICNA Nassau – Community & Social Justice (CSJ) \n✨ Come be part of an evening focused on unity\, reflection\, and community as we welcome Ramadan together.
URL:https://events.icnany.org/event/icna-nassau-csj-welcome-ramadan-event/
LOCATION:ICNA Nassau Community Center\, 1529 Jericho Turnpike\, New Hyde Park\, NY\, 11040\, United States
CATEGORIES:Civic Engagement
END:VEVENT
BEGIN:VEVENT
DTSTART;TZID=UTC:20260221T163000
DTEND;TZID=UTC:20260221T180000
DTSTAMP:20260423T230802
CREATED:20260217T030950Z
LAST-MODIFIED:20260218T163127Z
UID:10001026-1771691400-1771696800@events.icnany.org
SUMMARY:Embrace Reverts Iftar (Nassau)
DESCRIPTION:
URL:https://events.icnany.org/event/embrace-reverts-iftar-nassau/
LOCATION:ICNA Nassau Community Center\, 1529 Jericho Turnpike\, New Hyde Park\, NY\, 11040\, United States
ATTACH;FMTTYPE=image/png:https://events.icnany.org/wp-content/uploads/2026/02/Reverts.png
END:VEVENT
BEGIN:VEVENT
DTSTART;TZID=UTC:20260228T163000
DTEND;TZID=UTC:20260228T183000
DTSTAMP:20260423T230802
CREATED:20260223T021436Z
LAST-MODIFIED:20260223T021436Z
UID:10001028-1772296200-1772303400@events.icnany.org
SUMMARY:Embrace Reverts Iftar (Jackson Heights)
DESCRIPTION:
URL:https://events.icnany.org/event/embrace-reverts-iftar-jackson-heights/
LOCATION:Masjid Abu-Hurairah\, 78-04 31st Ave\, East Elmhurst\, NY\, 11370\, United States
END:VEVENT
BEGIN:VEVENT
DTSTART;TZID=UTC:20260301T160000
DTEND;TZID=UTC:20260301T180000
DTSTAMP:20260423T230802
CREATED:20260227T040812Z
LAST-MODIFIED:20260227T041503Z
UID:10001029-1772380800-1772388000@events.icnany.org
SUMMARY:ICNA Nassau Iftar 2026
DESCRIPTION:ICNA Nassau Community Iftar 2026 \nRamadan Mubarak! \nJoin us for a beautiful evening of unity\, reflection\, and brotherhood & sisterhood at the ICNA Nassau Community Iftar. Let’s come together as a community to break our fast\, strengthen our bonds\, and welcome the blessed month of Ramadan in a warm and uplifting atmosphere. \n Sunday\, March 1st\, 2026 Start Time: 4:00 PM ICNA Nassau Community Center1529 Jericho TurnpikeNew Hyde Park\, NY 11040 \nEnjoy: \nA spiritually uplifting Ramadan gathering \nTime to connect with families and community members \nA delicious iftar meal \nA welcoming space for all ages \nSpots are limited\, so be sure to register early! \n Secure your spot today and join us for this special evening. \nWe look forward to breaking fast with you and your family\, insha’Allah.
URL:https://events.icnany.org/event/icna-nassau-iftar-2026/
LOCATION:ICNA Nassau Community Center\, 1529 Jericho Turnpike\, New Hyde Park\, NY\, 11040\, United States
ATTACH;FMTTYPE=image/jpeg:https://events.icnany.org/wp-content/uploads/2026/02/AbsoluteFinalRegistraion.jpg
END:VEVENT
BEGIN:VEVENT
DTSTART;TZID=UTC:20260325T080000
DTEND;TZID=UTC:20260325T170000
DTSTAMP:20260423T230802
CREATED:20260325T154005Z
LAST-MODIFIED:20260327T013436Z
UID:10001030-1774425600-1774458000@events.icnany.org
SUMMARY:Reverts Eid Celebration
DESCRIPTION:
URL:https://events.icnany.org/event/reverts-eid-celebration/
LOCATION:NY
CATEGORIES:Reverts
ATTACH;FMTTYPE=image/png:https://events.icnany.org/wp-content/uploads/2026/03/reverts-eid-flyer-1.png
END:VEVENT
BEGIN:VEVENT
DTSTART;TZID=UTC:20260419T110000
DTEND;TZID=UTC:20260628T130000
DTSTAMP:20260423T230802
CREATED:20260207T213208Z
LAST-MODIFIED:20260408T163740Z
UID:10001025-1776596400-1782651600@events.icnany.org
SUMMARY:Islam in America
DESCRIPTION:Islam in America \nThis course offers a broad introduction to the history of Muslim communities in the United States\, from the first African Muslims brought to these shores in chains as early as the 1500s to the diverse ethnic and racial communities of post-9/11 America. Through a chronological and thematic approach\, the class examines the origins\, transformations\, disappearances\, and rediscoveries of American Muslim life within their religious\, social\, and political contexts. \nWeekly sessions explore enslaved African Muslims and Moriscos\, the reemergence of Islam in Blackamerica\, the rise and legacy of the Nation of Islam\, immigrant Muslim communities during eras of exclusion and expansion\, and contemporary Muslim life in New York City. The course concludes with a Muslim Harlem walking tour and a community potluck with project presentations. \nInstructors: Dr. M. A. Zaman & Tamzid  \n📅 April 19 – June 28📍 ICNA Nassau Community Center – 1529 Jericho Turnpike\, New Hyde Park\, 11040 
URL:https://events.icnany.org/event/islam-in-america/
LOCATION:ICNA Nassau Community Center\, 1529 Jericho Turnpike\, New Hyde Park\, NY\, 11040\, United States
ATTACH;FMTTYPE=image/jpeg:https://events.icnany.org/wp-content/uploads/2026/02/FinalFlyerIslaminAmerica.jpg
END:VEVENT
BEGIN:VEVENT
DTSTART;TZID=UTC:20260426T000000
DTEND;TZID=UTC:20260426T235959
DTSTAMP:20260423T230802
CREATED:20260418T012332Z
LAST-MODIFIED:20260420T202242Z
UID:10001032-1777161600-1777247999@events.icnany.org
SUMMARY:Imams and Leadership Luncheon
DESCRIPTION:ICNA-MAS Convention 2026 | Imams & Leadership Luncheon \nYou are cordially invited to the Imams and Leadership Luncheon\, hosted as part of the 51st Annual ICNA-MAS Convention (ICNACON 2026). \n\nDate: Sunday\, April 26th\, 2026 \nTime: 12:00 PM \nVenue: Shirazi Kabab House 183-10 Horace Harding Expressway\, Fresh Meadows\, NY 11365 \nGuest Speaker: Imam Jawad Ahmed (Director\, Why Islam) \nLunch will be served. Valet parking available. \n\nRSVP: \nHamid Siddiqui — (516) 852-8555 \nDr. Abdul Jabber — (631) 220-9373 \n\nProudly organized under ICNACON 2026\, bringing together imams\, community leaders\, and organizations committed to service\, justice\, and faith.
URL:https://events.icnany.org/event/imams-and-leadership-luncheon/
LOCATION:Shirazi Kabab House\, 183-10 Horace Harding Expy\, Fresh Meadows\, NY\, 11365\, United States
ATTACH;FMTTYPE=image/jpeg:https://events.icnany.org/wp-content/uploads/2026/04/PHOTO-2026-04-17-21-12-02.jpg
ORGANIZER;CN="ICNA NY":MAILTO:info@icnany.org
END:VEVENT
BEGIN:VEVENT
DTSTART;TZID=UTC:20260426T160000
DTEND;TZID=UTC:20260426T183000
DTSTAMP:20260423T230802
CREATED:20260418T045435Z
LAST-MODIFIED:20260418T045435Z
UID:10001033-1777219200-1777228200@events.icnany.org
SUMMARY:Monthly Family Series - April - Islamic Art: Names of Allah
DESCRIPTION:Monthly Family Event — Islamic Art Hosted by ICNA Nassau Center \n\nJoin us for our Monthly Family Event as we explore the beautiful intersection of art and faith. This month’s theme is the Names of Allah\, where families will come together to paint one of the magnificent Names of Allah on canvas. \nWhether you’re an experienced artist or picking up a brush for the first time\, this is a wonderful opportunity to reflect on the beauty of Allah’s names while creating something meaningful to take home. \n\nTheme: Names of Allah \nActivity: Paint one of the Names of Allah on your very own canvas \nDate: Sunday\, April 26th\, 2026 \nTime: 4:00 PM – 6:00 PM \nVenue: ICNA Nassau Community Center\, 1529 Jericho Turnpike\, New Hyde Park\, 11040 \nOpen to: All families welcome \nCost: Free \n\nAll materials will be provided. No prior art experience necessary — just bring your creativity and an open heart. This is a great activity for children and adults alike\, and a beautiful way to connect with the Names of Allah in a creative and memorable way. \n\nSpaces may be limited — register early to secure your spot. We look forward to creating and connecting with you!
URL:https://events.icnany.org/event/monthly-family-series-april-islamic-art-names-of-allah/
LOCATION:ICNA Nassau Community Center\, 1529 Jericho Turnpike\, New Hyde Park\, NY\, 11040\, United States
END:VEVENT
END:VCALENDAR