BEGIN:VCALENDAR
VERSION:2.0
PRODID:-//Events @ ICNA NY - ECPv6.15.20//NONSGML v1.0//EN
CALSCALE:GREGORIAN
METHOD:PUBLISH
X-WR-CALNAME:Events @ ICNA NY
X-ORIGINAL-URL:https://events.icnany.org
X-WR-CALDESC:Events for Events @ ICNA NY
REFRESH-INTERVAL;VALUE=DURATION:PT1H
X-Robots-Tag:noindex
X-PUBLISHED-TTL:PT1H
BEGIN:VTIMEZONE
TZID:America/New_York
BEGIN:DAYLIGHT
TZOFFSETFROM:-0500
TZOFFSETTO:-0400
TZNAME:EDT
DTSTART:20240310T070000
END:DAYLIGHT
BEGIN:STANDARD
TZOFFSETFROM:-0400
TZOFFSETTO:-0500
TZNAME:EST
DTSTART:20241103T060000
END:STANDARD
BEGIN:DAYLIGHT
TZOFFSETFROM:-0500
TZOFFSETTO:-0400
TZNAME:EDT
DTSTART:20250309T070000
END:DAYLIGHT
BEGIN:STANDARD
TZOFFSETFROM:-0400
TZOFFSETTO:-0500
TZNAME:EST
DTSTART:20251102T060000
END:STANDARD
BEGIN:DAYLIGHT
TZOFFSETFROM:-0500
TZOFFSETTO:-0400
TZNAME:EDT
DTSTART:20260308T070000
END:DAYLIGHT
BEGIN:STANDARD
TZOFFSETFROM:-0400
TZOFFSETTO:-0500
TZNAME:EST
DTSTART:20261101T060000
END:STANDARD
END:VTIMEZONE
BEGIN:VTIMEZONE
TZID:UTC
BEGIN:STANDARD
TZOFFSETFROM:+0000
TZOFFSETTO:+0000
TZNAME:UTC
DTSTART:20240101T000000
END:STANDARD
END:VTIMEZONE
BEGIN:VEVENT
DTSTART;TZID=America/New_York:20250118T140000
DTEND;TZID=America/New_York:20250118T170000
DTSTAMP:20260425T161250
CREATED:20241206T172524Z
LAST-MODIFIED:20250118T174253Z
UID:10000919-1737208800-1737219600@events.icnany.org
SUMMARY:Striving for Change
DESCRIPTION:🌟 Join Us for an Afternoon of Hope\, Action\, and Change 🌟 \nIn a world where it often feels like hope is hard to come by\, let’s come together to rediscover the power of collective action and civic engagement. ICNA Council for Social Justice proudly presents: \n🎤 Striving for Change: A Civic Engagement Series for Young Professionals\nFeaturing Special Guest Speaker: Assemblyman Zohran Mamdani \n🗓️ Date: Saturday\, January 18th\, 2025\n⏰ Time: 2:00 PM\n📍 Location: ICNA Nassau Community Center\n1529 Jericho Turnpike\, New Hyde Park\, NY 11040 \nThis event is more than just a talk—it’s a call to action\, a chance to reconnect with your community\, and an opportunity to ignite hope in the face of adversity. Assemblyman Zohran Mamdani will share his insights on social justice\, advocacy\, and the transformative power of civic participation. \nWhether you’re a seasoned activist or someone looking to take your first steps toward meaningful engagement\, this event is for YOU. Together\, we’ll explore how to challenge the status quo\, amplify our voices\, and build a future grounded in justice and equity. \n💡 Why Attend? \n\nBe inspired by impactful ideas and stories.\nConnect with community members passionate about change.\nLearn actionable steps to make a difference in your own sphere of influence.\n\n✨ Let’s create a ripple effect of hope and progress—one conversation\, one connection\, one step at a time. \n👉 Reserve your spot today! Don’t miss this chance to be part of a movement that turns challenges into opportunities for growth and justice. \n🌍 Together\, we can strive for change. Together\, we can make a difference.
URL:https://events.icnany.org/event/striving-for-change/
LOCATION:ICNA Nassau Community Center\, 1529 Jericho Turnpike\, New Hyde Park\, NY\, 11040\, United States
CATEGORIES:Civic Engagement,Community
ATTACH;FMTTYPE=image/jpeg:https://events.icnany.org/wp-content/uploads/2024/12/Jan-18-25-Zohran.jpeg
END:VEVENT
BEGIN:VEVENT
DTSTART;TZID=UTC:20250127T000338
DTEND;TZID=UTC:20250127T000338
DTSTAMP:20260425T161250
CREATED:20250126T235212Z
LAST-MODIFIED:20250127T000545Z
UID:10000923-1737936218-1737936218@events.icnany.org
SUMMARY:Dai’ee Appreciation Dinner
DESCRIPTION:
URL:https://events.icnany.org/event/daiee-appreciation-dinner/
LOCATION:ICNA AL MARKAZ\, 166-26 89th Ave\, Jamaica\, NY\, 11432\, United States
END:VEVENT
BEGIN:VEVENT
DTSTART;TZID=UTC:20250222T180000
DTEND;TZID=UTC:20250222T210000
DTSTAMP:20260425T161250
CREATED:20250118T182756Z
LAST-MODIFIED:20250222T040013Z
UID:10000920-1740247200-1740258000@events.icnany.org
SUMMARY:Welcome Ramadan Event
DESCRIPTION:🌙✨ Assalamualaikum Wa Rahmatullahi Wa Barakatuh! ✨🌙 \nAs the blessed month of Ramadan approaches\, we are excited to invite you to our Welcome Ramadan Event! This year\, our theme is “Actions Rooted in Knowledge”\, emphasizing the importance of aligning our deeds with the wisdom and teachings of Islam also highlighting the importance of preparation before action! \n📅 Date: Saturday\, February 22nd\, 2025\n⏰ Time: 6:00 PM  – 9:00 PM\n📍 Location: ICNA Nassau Community Center\, 1529 Jericho Turnpike\, New Hyde Park\, NY\, 11040 \nWe are honored to announce our guest speaker\, Mufti Kamil\, who will enlighten us with his profound knowledge and wisdom. \nJoin us for an inspiring evening filled with:\n🌟 Interactive Talk by Mufti Kamil: Explore the significance of seeking knowledge and how it shapes our actions during Ramadan and beyond.\n🌟 Recitation: Come hear beautiful recitation by Hafiz Yusuf who will be leading Taraweeh this year.\n🌟 Quran Reflections: Gain insights into the lessons from the Quran that guide our daily lives.\n🌟 Community Dinner: Enjoy dinner with us and enjoy a warm\, welcoming atmosphere. \nLet’s make this Ramadan a time of meaningful growth\, rooted in the light of knowledge and understanding. Bring your friends and loved ones\, and let’s embark on this journey together! \nReserve your spot today! Suggested Donation of $10  \nMay Allah (SWT) grant us the ability to benefit from this blessed month. We look forward to seeing you there\, InshaAllah! \n 
URL:https://events.icnany.org/event/welcome-ramadan-event/
LOCATION:ICNA Nassau Community Center\, 1529 Jericho Turnpike\, New Hyde Park\, NY\, 11040\, United States
ATTACH;FMTTYPE=image/jpeg:https://events.icnany.org/wp-content/uploads/2025/01/Ramadan-Flyer-2.jpg
END:VEVENT
BEGIN:VEVENT
DTSTART;TZID=UTC:20250312T173000
DTEND;TZID=UTC:20250312T200000
DTSTAMP:20260425T161250
CREATED:20250301T192933Z
LAST-MODIFIED:20250303T035519Z
UID:10000925-1741800600-1741809600@events.icnany.org
SUMMARY:Breaking Injustice - A Ramadan Iftaar for All
DESCRIPTION:  \nSalam and Peace be upon you! \nJoin us on March 12th for an evening of reflection\, unity\, and shared humanity. Fasting is more than a spiritual act\, it’s an act of resilience and solidarity. We invite you to come together at sunset to share a meal\, learn about Ramadan\, and reflect on how finding strength through this month connects us all\, from Gaza to right here at home. If you’d like\, you’re also welcome to fast with us during the day\, abstaining from food and water from dawn to sunset\, as a way to experience this practice firsthand. \nWe look forward to sharing this moment with you. Please RSVP soon\, seats are limited!
URL:https://events.icnany.org/event/breakinginjusticeiftaar/
LOCATION:ICNA Nassau Community Center\, 1529 Jericho Turnpike\, New Hyde Park\, NY\, 11040\, United States
ATTACH;FMTTYPE=image/jpeg:https://events.icnany.org/wp-content/uploads/2025/03/F7232353-C91A-49FA-8F50-16A7D4E914FD.jpg
END:VEVENT
BEGIN:VEVENT
DTSTART;TZID=UTC:20250316T183000
DTEND;TZID=UTC:20250316T203000
DTSTAMP:20260425T161250
CREATED:20250306T183133Z
LAST-MODIFIED:20250312T223903Z
UID:10000926-1742149800-1742157000@events.icnany.org
SUMMARY:Annual ICNA Nassau Community Iftar
DESCRIPTION:Annual ICNA Nassau Community Iftar📅 Date: Sunday\, March 16\, 2025⏰ Time: 6:30 PM – 8:30 PM📍 Location: ICNA Nassau Community Center\, 1529 Jericho Turnpike\, New Hyde Park\, 11040 \nJoin us for the Annual ICNA Nassau Community Iftar\, an evening of unity\, gratitude\, and togetherness. As we gather to break our fast\, this event will bring together friends\, families\, and neighbors from all backgrounds to strengthen our community bonds. \n🌙 Event Highlights:✅ Welcoming Remarks – Opening words from community organizers.✅ Delicious Iftar Meal – Enjoy a diverse selection of traditional and local dishes.✅ Taraweeh Prayers – Led by Hafiz Yusuf\, immediately following the iftar. \n📌 RSVP & Inquiries: Fraz – (347)-389-5531 \nLet’s come together to celebrate the spirit of Ramadan and strengthen our community connections. We can’t wait to see you there!
URL:https://events.icnany.org/event/annual-icna-nassau-community-iftar/
LOCATION:ICNA Nassau Community Center\, 1529 Jericho Turnpike\, New Hyde Park\, NY\, 11040\, United States
ATTACH;FMTTYPE=image/jpeg:https://events.icnany.org/wp-content/uploads/2025/03/Community-Iftar.jpg
END:VEVENT
END:VCALENDAR