BEGIN:VCALENDAR
VERSION:2.0
PRODID:-//Events @ ICNA NY - ECPv6.15.20//NONSGML v1.0//EN
CALSCALE:GREGORIAN
METHOD:PUBLISH
X-WR-CALNAME:Events @ ICNA NY
X-ORIGINAL-URL:https://events.icnany.org
X-WR-CALDESC:Events for Events @ ICNA NY
REFRESH-INTERVAL;VALUE=DURATION:PT1H
X-Robots-Tag:noindex
X-PUBLISHED-TTL:PT1H
BEGIN:VTIMEZONE
TZID:UTC
BEGIN:STANDARD
TZOFFSETFROM:+0000
TZOFFSETTO:+0000
TZNAME:UTC
DTSTART:20240101T000000
END:STANDARD
END:VTIMEZONE
BEGIN:VEVENT
DTSTART;TZID=UTC:20250503T080000
DTEND;TZID=UTC:20250503T170000
DTSTAMP:20260425T132948
CREATED:20250424T194946Z
LAST-MODIFIED:20250426T172722Z
UID:10000935-1746259200-1746291600@events.icnany.org
SUMMARY:Hike & Reflect - Brothers Outdoor Activity
DESCRIPTION:Escape the City: Hike\, Dhikr & Reflection at Anthony’s NoseBrothers Only | Spiritual Recharge in Nature \nLeave behind the city noise and step into serenity. Join us for a rejuvenating brothers-only hike to Anthony’s Nose — a breathtaking Hudson Valley trail overlooking the Hudson River. Surrounded by nature’s beauty\, we’ll take time for dhikr\, reflection\, and reconnecting with our souls in a peaceful setting. \n📍 Where: Anthony’s Nose\, Hudson Valley🕌 Meet for Fajr at: Hillside Islamic Center or Masjid Hamza🚗 Departure: Right after Fajr🎒 Bring: Water\, snacks\, good hiking shoes\, and an open heart \nThis is more than a hike — it’s a chance to reset\, reflect\, and strengthen brotherhood in the remembrance of Allah. \nLimited spots available – sign up now to secure yours.
URL:https://events.icnany.org/event/hike-reflect-brothers-outdoor-activity/
LOCATION:ICNA Nassau Community Center\, 1529 Jericho Turnpike\, New Hyde Park\, NY\, 11040\, United States
CATEGORIES:Community,Outdoor Activities
ATTACH;FMTTYPE=image/jpeg:https://events.icnany.org/wp-content/uploads/2025/04/Final-Hike-Flyer.jpg
END:VEVENT
BEGIN:VEVENT
DTSTART;TZID=UTC:20250503T180000
DTEND;TZID=UTC:20250503T230000
DTSTAMP:20260425T132948
CREATED:20250408T062753Z
LAST-MODIFIED:20250408T062916Z
UID:10000932-1746295200-1746313200@events.icnany.org
SUMMARY:Dawah Training + Night Live Dawah at Times Square 
DESCRIPTION:Date: Saturday May 3rd\, 2025 \nTime: 6pm-8pm \nLocation: ICNAAl-Markaz \nAddress: 166-26 89th Ave\, Jamaica\, NY 11432 \nLive Dawah at Times Square: 9pm \n  \nGuest speaker: \nDr. Sabeel Ahmed is the Executive Director of the GainPeace Project\, a project of ICNA\, who dedicates his time as a full-time educator of Islam.
URL:https://events.icnany.org/event/dawah-training-night-live-dawah-at-times-square/
LOCATION:ICNA AL MARKAZ\, 166-26 89th Ave\, Jamaica\, NY\, 11432\, United States
CATEGORIES:Dawah
ORGANIZER;CN="ICNA NY":MAILTO:info@icnany.org
END:VEVENT
END:VCALENDAR