BEGIN:VCALENDAR
VERSION:2.0
PRODID:-//Events @ ICNA NY - ECPv6.15.20//NONSGML v1.0//EN
CALSCALE:GREGORIAN
METHOD:PUBLISH
X-WR-CALNAME:Events @ ICNA NY
X-ORIGINAL-URL:https://events.icnany.org
X-WR-CALDESC:Events for Events @ ICNA NY
REFRESH-INTERVAL;VALUE=DURATION:PT1H
X-Robots-Tag:noindex
X-PUBLISHED-TTL:PT1H
BEGIN:VTIMEZONE
TZID:UTC
BEGIN:STANDARD
TZOFFSETFROM:+0000
TZOFFSETTO:+0000
TZNAME:UTC
DTSTART:20240101T000000
END:STANDARD
END:VTIMEZONE
BEGIN:VEVENT
DTSTART;TZID=UTC:20250502T190000
DTEND;TZID=UTC:20250502T210000
DTSTAMP:20260425T122005
CREATED:20250408T062159Z
LAST-MODIFIED:20250408T062419Z
UID:10000931-1746212400-1746219600@events.icnany.org
SUMMARY:A Unique Approach to Reviving Our Ummah
DESCRIPTION:  \nDate: Friday May 2nd\, 2025 \nTime: 7pm-9pm \nLocation: ICNA Al-Markaz \nAddress: 166-26 89th Ave\, Jamaica\, NY 11432 \nGuest speaker: \nDr. Sabeel Ahmed is the Executive Director of the GainPeace Project\, a project of ICNA\, who dedicates his time as a full-time educator of Islam.
URL:https://events.icnany.org/event/a-unique-approach-to-reviving-our-ummah/
LOCATION:ICNA AL MARKAZ\, 166-26 89th Ave\, Jamaica\, NY\, 11432\, United States
CATEGORIES:Dawah
ORGANIZER;CN="ICNA NY":MAILTO:info@icnany.org
END:VEVENT
BEGIN:VEVENT
DTSTART;TZID=UTC:20250503T080000
DTEND;TZID=UTC:20250503T170000
DTSTAMP:20260425T122005
CREATED:20250424T194946Z
LAST-MODIFIED:20250426T172722Z
UID:10000935-1746259200-1746291600@events.icnany.org
SUMMARY:Hike & Reflect - Brothers Outdoor Activity
DESCRIPTION:Escape the City: Hike\, Dhikr & Reflection at Anthony’s NoseBrothers Only | Spiritual Recharge in Nature \nLeave behind the city noise and step into serenity. Join us for a rejuvenating brothers-only hike to Anthony’s Nose — a breathtaking Hudson Valley trail overlooking the Hudson River. Surrounded by nature’s beauty\, we’ll take time for dhikr\, reflection\, and reconnecting with our souls in a peaceful setting. \n📍 Where: Anthony’s Nose\, Hudson Valley🕌 Meet for Fajr at: Hillside Islamic Center or Masjid Hamza🚗 Departure: Right after Fajr🎒 Bring: Water\, snacks\, good hiking shoes\, and an open heart \nThis is more than a hike — it’s a chance to reset\, reflect\, and strengthen brotherhood in the remembrance of Allah. \nLimited spots available – sign up now to secure yours.
URL:https://events.icnany.org/event/hike-reflect-brothers-outdoor-activity/
LOCATION:ICNA Nassau Community Center\, 1529 Jericho Turnpike\, New Hyde Park\, NY\, 11040\, United States
CATEGORIES:Community,Outdoor Activities
ATTACH;FMTTYPE=image/jpeg:https://events.icnany.org/wp-content/uploads/2025/04/Final-Hike-Flyer.jpg
END:VEVENT
BEGIN:VEVENT
DTSTART;TZID=UTC:20250503T180000
DTEND;TZID=UTC:20250503T230000
DTSTAMP:20260425T122005
CREATED:20250408T062753Z
LAST-MODIFIED:20250408T062916Z
UID:10000932-1746295200-1746313200@events.icnany.org
SUMMARY:Dawah Training + Night Live Dawah at Times Square 
DESCRIPTION:Date: Saturday May 3rd\, 2025 \nTime: 6pm-8pm \nLocation: ICNAAl-Markaz \nAddress: 166-26 89th Ave\, Jamaica\, NY 11432 \nLive Dawah at Times Square: 9pm \n  \nGuest speaker: \nDr. Sabeel Ahmed is the Executive Director of the GainPeace Project\, a project of ICNA\, who dedicates his time as a full-time educator of Islam.
URL:https://events.icnany.org/event/dawah-training-night-live-dawah-at-times-square/
LOCATION:ICNA AL MARKAZ\, 166-26 89th Ave\, Jamaica\, NY\, 11432\, United States
CATEGORIES:Dawah
ORGANIZER;CN="ICNA NY":MAILTO:info@icnany.org
END:VEVENT
BEGIN:VEVENT
DTSTART;TZID=UTC:20250612T183000
DTEND;TZID=UTC:20250612T210000
DTSTAMP:20260425T122005
CREATED:20250611T014648Z
LAST-MODIFIED:20250611T021520Z
UID:10000937-1749753000-1749762000@events.icnany.org
SUMMARY:NYC 2nd Mayor Debate Watch Party
DESCRIPTION:come watch the 2nd and last mayor debate and the Icna Nassau center this Thursday!
URL:https://events.icnany.org/event/nyc-2nd-mayor-debate-watch-party/
LOCATION:ICNA Nassau Community Center\, 1529 Jericho Turnpike\, New Hyde Park\, NY\, 11040\, United States
CATEGORIES:Civic Engagement
END:VEVENT
BEGIN:VEVENT
DTSTART;TZID=UTC:20250621T183000
DTEND;TZID=UTC:20250621T213000
DTSTAMP:20260425T122005
CREATED:20250620T003132Z
LAST-MODIFIED:20250620T012716Z
UID:10000938-1750530600-1750541400@events.icnany.org
SUMMARY:YM & ICNA CSJ Presents: CHANGEMAKERS OF TOMORROW
DESCRIPTION:  \n \n\nYou’re Invited!\n\nJoin Young Muslims and the ICNA Council for Social Justice for an engaging and educational evening!\n\nDate: Saturday\, June 21\nTime: 6:30 PM\n Location: New York City Muslim Center\n\nFeatured Speakers:\n•Dr. Jamel Coy Hudson – Muslim Alliance For Black Lives Convener\n•Mosaab Sadeia – Geopolitical Analyst\n\nThis event aims to encourage Muslim Youth to become more politically aware and actively involved in local politics. Learn how our voices can shape the future through informed civic engagement.\n\nFood will be served! Come for the conversation\, stay for the dinner.\nDisclaimer:\nUnfortunately\, due to scheduling issues\, Zohran will be unable to make it. However\, this event will still be one for the books\, and will be a legendary event. Please join us for inspirational talks and food will be served!
URL:https://events.icnany.org/event/ym-icna-csj-presents-changemakers-of-tomorrow/
LOCATION:New York City Muslim Center\, 90-20 191st St\, Hollis\, NY\, 11423\, United States
END:VEVENT
BEGIN:VEVENT
DTSTART;TZID=UTC:20250712T110000
DTEND;TZID=UTC:20250810T130000
DTSTAMP:20260425T122005
CREATED:20250628T020502Z
LAST-MODIFIED:20250711T171618Z
UID:10000939-1752318000-1754830800@events.icnany.org
SUMMARY:Unlocking Hadith: The Science Behind the Sunnah
DESCRIPTION:🕌 Unlocking Hadith: The Science Behind the Sunnah \nAn engaging course on the foundations of Hadith authenticity and transmission \n— \n📘 Course Overview \nHave you ever wondered how we know a Hadith is authentic? \nWhat’s the difference between Ṣaḥīḥ\, Ḥasan\, and Ḍaʿīf? \nWho preserved the Sunnah\, and how did they ensure its precision? \nThis course explores the rich tradition of Hadith preservation\, the rigorous standards used by scholars\, and the transmission of the Sunnah from the Prophet ﷺ’s time until today. Designed for students of knowledge and seekers of clarity\, the course introduces both foundational principles and practical insights from classical Hadith scholarship. \n— \n🔍 Topics Include: \n✅ What goes on behind Hadith classification and authenticity \n✅ The major books of Hadith and their authors \n✅ A historical overview of Hadith compilation—from the Prophet ﷺ’s time to the present \n✅ The major scholars of Hadith and their contributions \n✅ Understanding Ṣaḥīḥ\, Ḥasan\, and Ḍaʿīf Hadith \n✅ Addressing common misconceptions and modern doubts about Hadith \n— \n🎓 Who Should Attend: \nStudents of knowledge \nYouth and adults seeking clarity on Hadith sciences \nAnyone looking to strengthen their connection to the Sunnah \n— \n🗓️ Course Details \n📅 Start Date: July 12th \n🕰️ Duration: 5-week course \n📍 Location: ICNA Nassau Community Center \nCLASS WILL NOW BE OFFERED ONLINE AND RECORDED \n📎 Includes: Course notes\, live Q&A sessions\, and certificate of completion \nFinancial Aid Available Upon Request \n— \n👤 Instructor: \nHanan Aslam \nStudent at the College of Hadith\, Islamic University of Madinah — with a focus on Hadith methodology\, preservation\, and classical scholarship. Committed to delivering structured and authentic instruction in the sciences of Hadith to English-speaking students.
URL:https://events.icnany.org/event/unlocking-hadith-the-science-behind-the-sunnah/
LOCATION:ICNA Nassau Community Center\, 1529 Jericho Turnpike\, New Hyde Park\, NY\, 11040\, United States
ATTACH;FMTTYPE=image/jpeg:https://events.icnany.org/wp-content/uploads/2025/06/Unlocking-Hadith-Flyer-1-2.jpg
END:VEVENT
BEGIN:VEVENT
DTSTART;TZID=UTC:20250719T090000
DTEND;TZID=UTC:20250719T170000
DTSTAMP:20260425T122005
CREATED:20250703T030233Z
LAST-MODIFIED:20250703T030408Z
UID:10000940-1752915600-1752944400@events.icnany.org
SUMMARY:Muslim History Tour: Brooklyn Edition
DESCRIPTION:🕌 Muslim History Tour: Brooklyn Edition\nHosted by ICNA Nassau Community Center ✦ Guided by New York Narratives \n\n1 • Event Snapshot\n\n\n\n\n\n\n\n\n\n\nDate \n\n\nSaturday\, July 19\, 2025 \n\n\n\n\nMeet-Up \n\n\n9:15 AM at ICNA Nassau (1529 Jericho Tpke\, New Hyde Park NY 11040) \n\n\n\n\nReturn \n\n\nEarly evening\, same location \n\n\n\n\nPrice \n\n\n$50 per person \n\n\n\n\nGroup Size \n\n\nVery limited to ensure a personal experience \n\n\n\n\nJoin us for a moving journey through Brooklyn Heights & Cobble Hill\, uncovering centuries of Arab and Muslim presence\, faith\, and resilience in New York City. \n\n2 • What Your Ticket Includes\n\n\nRound-trip travel in a fully air-conditioned coach \n\n\nThree-hour guided walk led by New York Narratives’ expert historian \n\n\nCurated stops highlighting immigration\, religious life\,  labor & urban change \n\n\nLight refreshments on the bus and reflections led by Br. Zaman \n\n\n\n3 • Pre-Trip Checklist\n\n\n\n\n✅ \n\n\nAction \n\n\n\n\n\n\n\nReserve your seat below – registration closes when capacity is reached. \n\n\n\n\n\nWear comfortable walking shoes; expect ~1.5-2 miles of walking. \n\n\n\n\n\nCheck the weather; bring a reusable water bottle & sun protection. \n\n\n\n\n\nBring ID for check-in at ICNA Nassau. \n\n\n\n\n\n4 • Tentative Itinerary\n\n\n\n\nTime \n\n\nActivity \n\n\n\n\n\n\n9:15 AM \n\n\nCheck-in at ICNA Nassau \n\n\n\n\n9:30 AM \n\n\nDeparture to Brooklyn \n\n\n\n\n11:00 AM \n\n\nWalk Begins \n\n\n\n\n3:00 PM \n\n\nBus departs Brooklyn \n\n\n\n\n4:30 PM \n\n\nArrive back at ICNA Nassau \n\n\n\n\nTimes may shift slightly due to traffic. \n\n5 • Frequently Asked Questions\nIs the tour family-friendly? \nYes\, youth 12+ are welcome with a responsible adult. Strollers not recommended due to narrow sidewalks. \nAccessibility? \nThe route includes some inclines and uneven pavement. \nRain plan? \nTours run rain or shine; severe-weather cancellations will be emailed by 7 AM. \nRefund policy? \nTickets are non-refundable but transferable. If you can’t attend\, you may gift your seat to someone else (inform us by July 17). \n\n6 • Secure Your Seat\nClick “Register Now” and complete the short form. You’ll receive a confirmation email within minutes. \nBismillah – let’s walk together\, learn together\, and strengthen the ties that bind our diverse ummah to the wider New York story. \nWe can’t wait to explore Brooklyn’s Muslim heritage with you! \n\n 
URL:https://events.icnany.org/event/muslim-history-tour-brooklyn-edition/
LOCATION:ICNA Nassau Community Center\, 1529 Jericho Turnpike\, New Hyde Park\, NY\, 11040\, United States
CATEGORIES:Classes,Outdoor Activities
ATTACH;FMTTYPE=image/png:https://events.icnany.org/wp-content/uploads/2025/07/COHORT-1-3.png
END:VEVENT
BEGIN:VEVENT
DTSTART;TZID=UTC:20250803T133000
DTEND;TZID=UTC:20250803T153000
DTSTAMP:20260425T122005
CREATED:20250802T170737Z
LAST-MODIFIED:20250802T221710Z
UID:10000943-1754227800-1754235000@events.icnany.org
SUMMARY:Story Time Series:  Prophet Yusuf (A.S)
DESCRIPTION:Assalamualaikum\, \nThis Sunday\, August 3rd from 1:30–3:30 PM\, we’re hosting a storytime for kids ages 5–12 at ICNA Nassau. \nWe’ll read about Prophet Yusuf (A.S.) and do simple activities to help them connect with his story. \n📍1529 Jericho Turnpike\, New Hyde Park\, NY 11040 \nAll are welcome. Feel free to share with other families.\n– ICNA Nassau
URL:https://events.icnany.org/event/story-time-series-prophet-yusuf-a-s/
LOCATION:ICNA Nassau Community Center\, 1529 Jericho Turnpike\, New Hyde Park\, NY\, 11040\, United States
ATTACH;FMTTYPE=image/jpeg:https://events.icnany.org/wp-content/uploads/2025/08/Prophet-Yusuf-Story-Time-Flyer-2.jpg
END:VEVENT
END:VCALENDAR