BEGIN:VCALENDAR
VERSION:2.0
PRODID:-//Events @ ICNA NY - ECPv6.15.20//NONSGML v1.0//EN
CALSCALE:GREGORIAN
METHOD:PUBLISH
X-WR-CALNAME:Events @ ICNA NY
X-ORIGINAL-URL:https://events.icnany.org
X-WR-CALDESC:Events for Events @ ICNA NY
REFRESH-INTERVAL;VALUE=DURATION:PT1H
X-Robots-Tag:noindex
X-PUBLISHED-TTL:PT1H
BEGIN:VTIMEZONE
TZID:UTC
BEGIN:STANDARD
TZOFFSETFROM:+0000
TZOFFSETTO:+0000
TZNAME:UTC
DTSTART:20230101T000000
END:STANDARD
END:VTIMEZONE
BEGIN:VEVENT
DTSTART;TZID=UTC:20240715T150000
DTEND;TZID=UTC:20240904T180000
DTSTAMP:20260425T140030
CREATED:20240621T190209Z
LAST-MODIFIED:20240621T192208Z
UID:10000051-1721055600-1725472800@events.icnany.org
SUMMARY:Digital SAT Prep Course
DESCRIPTION:Join us for ICNA Nassau’s Summer Digital SAT Prep Course with Sr Sanjana\, a seasoned educator with over 5 years of experience in exam preparation. With her expertise in the new Digital SAT format and a track record of academic success\, Sr Sanjana will guide you through 48 hours of expert tutoring\, along with 1 diagnostic and 2 practice exams. Enhance your skills and achieve your best possible SAT score this summer! Limited spots are available\, so secure your place now!
URL:https://events.icnany.org/event/digital-sat-prep-course/
LOCATION:ICNA Nassau Community Center\, 1529 Jericho Turnpike\, New Hyde Park\, NY\, 11040\, United States
CATEGORIES:Classes
ATTACH;FMTTYPE=image/jpeg:https://events.icnany.org/wp-content/uploads/2024/06/6be26b96-8aea-4fc2-a516-d95ffaa8051a.jpeg
END:VEVENT
BEGIN:VEVENT
DTSTART;TZID=UTC:20240907T000000
DTEND;TZID=UTC:20250906T235959
DTSTAMP:20260425T140030
CREATED:20240726T203213Z
LAST-MODIFIED:20240726T203851Z
UID:10000105-1725667200-1757203199@events.icnany.org
SUMMARY:Quranic Arabic Class
DESCRIPTION:  \nWeekly Arabic classes at the ICNA Nassau Community Center taught by Ustadh Abu Hafsah! \n\nSchedule: Every Saturday from 11am to 1pm\nCourse text: Muhammad Ibn Saud Curriculum\nCourse price: $300\nCourse Length: 1 Year\nInstructor: Ustadh Abu Hafsah\n\nLearn to speak Arabic and understand the Qur’an as you hear it! This course will cover Arabic vocabulary\, syntax\, and morphology supplemented with hands on practice in breaking down Quranic verses and Arabic texts. \nThe course is open for all students including first time Arabic language learners and those looking to brush up on their Arabic skills. The only prerequisite is students must be able to read the Arabic alphabet and Arabic words/sentences. \nThe course is catered for working professionals and students (ages 13+). Open to brothers and sisters. \nFor questions related to this class\, please contact 347-634-7202.
URL:https://events.icnany.org/event/arabic/
LOCATION:ICNA Nassau Community Center\, 1529 Jericho Turnpike\, New Hyde Park\, NY\, 11040\, United States
CATEGORIES:Classes
ATTACH;FMTTYPE=image/png:https://events.icnany.org/wp-content/uploads/2024/07/Arabic-101-Banner-2024.png
END:VEVENT
BEGIN:VEVENT
DTSTART;TZID=UTC:20240907T140000
DTEND;TZID=UTC:20240907T170000
DTSTAMP:20260425T140030
CREATED:20240810T053402Z
LAST-MODIFIED:20240815T162715Z
UID:10000626-1725717600-1725728400@events.icnany.org
SUMMARY:New Muslims and Beginner's Islamic Classes
DESCRIPTION:
URL:https://events.icnany.org/event/new-muslims-and-beginners-islamic-classes/2024-09-07/
LOCATION:NY
CATEGORIES:Classes,Reverts
ATTACH;FMTTYPE=image/jpeg:https://events.icnany.org/wp-content/uploads/2024/08/New-Muslims-Class-Updated-Flyer-2024-1.jpg
END:VEVENT
BEGIN:VEVENT
DTSTART;TZID=UTC:20240914T140000
DTEND;TZID=UTC:20240914T170000
DTSTAMP:20260425T140030
CREATED:20240810T053402Z
LAST-MODIFIED:20240815T162715Z
UID:10000627-1726322400-1726333200@events.icnany.org
SUMMARY:New Muslims and Beginner's Islamic Classes
DESCRIPTION:
URL:https://events.icnany.org/event/new-muslims-and-beginners-islamic-classes/2024-09-14/
LOCATION:NY
CATEGORIES:Classes,Reverts
ATTACH;FMTTYPE=image/jpeg:https://events.icnany.org/wp-content/uploads/2024/08/New-Muslims-Class-Updated-Flyer-2024-1.jpg
END:VEVENT
BEGIN:VEVENT
DTSTART;TZID=UTC:20240921T140000
DTEND;TZID=UTC:20240921T170000
DTSTAMP:20260425T140030
CREATED:20240810T053402Z
LAST-MODIFIED:20240815T162715Z
UID:10000628-1726927200-1726938000@events.icnany.org
SUMMARY:New Muslims and Beginner's Islamic Classes
DESCRIPTION:
URL:https://events.icnany.org/event/new-muslims-and-beginners-islamic-classes/2024-09-21/
LOCATION:NY
CATEGORIES:Classes,Reverts
ATTACH;FMTTYPE=image/jpeg:https://events.icnany.org/wp-content/uploads/2024/08/New-Muslims-Class-Updated-Flyer-2024-1.jpg
END:VEVENT
BEGIN:VEVENT
DTSTART;TZID=UTC:20240925T080000
DTEND;TZID=UTC:20241015T170000
DTSTAMP:20260425T140030
CREATED:20240925T021506Z
LAST-MODIFIED:20240926T150503Z
UID:10000917-1727251200-1729011600@events.icnany.org
SUMMARY:Monday Night Sisters Halaqa Signup
DESCRIPTION:Content is protected.
URL:https://events.icnany.org/event/monday-night-halaqa-signup/
LOCATION:ICNA Nassau Community Center\, 1529 Jericho Turnpike\, New Hyde Park\, NY\, 11040\, United States
END:VEVENT
BEGIN:VEVENT
DTSTART;TZID=UTC:20240928T140000
DTEND;TZID=UTC:20240928T170000
DTSTAMP:20260425T140030
CREATED:20240810T053402Z
LAST-MODIFIED:20240815T162715Z
UID:10000629-1727532000-1727542800@events.icnany.org
SUMMARY:New Muslims and Beginner's Islamic Classes
DESCRIPTION:
URL:https://events.icnany.org/event/new-muslims-and-beginners-islamic-classes/2024-09-28/
LOCATION:NY
CATEGORIES:Classes,Reverts
ATTACH;FMTTYPE=image/jpeg:https://events.icnany.org/wp-content/uploads/2024/08/New-Muslims-Class-Updated-Flyer-2024-1.jpg
END:VEVENT
END:VCALENDAR