BEGIN:VCALENDAR
VERSION:2.0
PRODID:-//Events @ ICNA NY - ECPv6.15.20//NONSGML v1.0//EN
CALSCALE:GREGORIAN
METHOD:PUBLISH
X-ORIGINAL-URL:https://events.icnany.org
X-WR-CALDESC:Events for Events @ ICNA NY
REFRESH-INTERVAL;VALUE=DURATION:PT1H
X-Robots-Tag:noindex
X-PUBLISHED-TTL:PT1H
BEGIN:VTIMEZONE
TZID:UTC
BEGIN:STANDARD
TZOFFSETFROM:+0000
TZOFFSETTO:+0000
TZNAME:UTC
DTSTART:20240101T000000
END:STANDARD
END:VTIMEZONE
BEGIN:VEVENT
DTSTART;TZID=UTC:20250906T000000
DTEND;TZID=UTC:20260905T235959
DTSTAMP:20260423T231125
CREATED:20250712T213615Z
LAST-MODIFIED:20250816T235521Z
UID:10000941-1757116800-1788652799@events.icnany.org
SUMMARY:Quranic Arabic Class 101
DESCRIPTION:  \nIntroductory Weekly Arabic classes at the ICNA Nassau Community Center taught by Ustadh Abu Hafsah! \n\nSchedule: Every Saturday from 12pm to 2pm\nCourse text: Muhammad Ibn Saud Curriculum\nCourse price: $350\nCourse Length: 1 Year\nInstructor: Ustadh Abu Hafsah\n\nLearn to speak Arabic and understand the Qur’an as you hear it! This course will cover Arabic vocabulary\, syntax\, and morphology supplemented with hands on practice in breaking down Quranic verses and Arabic texts. \nThe course is open for all students including first time Arabic language learners and those looking to brush up on their Arabic skills. The only prerequisite is students must be able to read the Arabic alphabet and Arabic words/sentences. \nThe course is catered for working professionals and students (ages 13+). Open to brothers and sisters. \nFor questions related to this class\, please contact 347-634-7202.
URL:https://events.icnany.org/event/quranic-arabic-class-101/
LOCATION:ICNA Nassau Community Center\, 1529 Jericho Turnpike\, New Hyde Park\, NY\, 11040\, United States
CATEGORIES:Classes
ATTACH;FMTTYPE=image/jpeg:https://events.icnany.org/wp-content/uploads/2025/07/arabic101.jpeg
END:VEVENT
BEGIN:VEVENT
DTSTART;TZID=UTC:20250906T000000
DTEND;TZID=UTC:20260905T235959
DTSTAMP:20260423T231125
CREATED:20250712T213805Z
LAST-MODIFIED:20250712T213805Z
UID:10000942-1757116800-1788652799@events.icnany.org
SUMMARY:Quranic Arabic Class 202
DESCRIPTION:  \nIntermediate level weekly Arabic classes at the ICNA Nassau Community Center taught by Ustadh Abu Hafsah! \n\nSchedule: Every Saturday from 10am to 12pm\nCourse text: Muhammad Ibn Saud Curriculum\nCourse price: $350\nCourse Length: 1 Year\nInstructor: Ustadh Abu Hafsah\n\nContinue your Arabic journey with this level 2 Arabic course! This course will delve into advanced Arabic vocabulary\, syntax\, and morphology supplemented with hands on practice in breaking down Quranic verses and Arabic texts. \nThe course is open for students with a minimum of 1 year of Arabic experience or lessons. This includes completing the Muhammad ibn Saud book 1 or other Arabic courses such as the Medina series books 1 & 2\, etc. If you are unsure if the class is a good fit for you\, please reach out to the admin at 347-634-7202. \nThe course is catered for working professionals and students (ages 13+). Open to brothers and sisters. \nFor questions related to this class\, please contact 347-634-7202.
URL:https://events.icnany.org/event/quranic-arabic-class-202/
LOCATION:ICNA Nassau Community Center\, 1529 Jericho Turnpike\, New Hyde Park\, NY\, 11040\, United States
CATEGORIES:Classes
END:VEVENT
BEGIN:VEVENT
DTSTART;TZID=UTC:20260109T000000
DTEND;TZID=UTC:20260111T235959
DTSTAMP:20260423T231125
CREATED:20251125T183343Z
LAST-MODIFIED:20251211T004026Z
UID:10001016-1767916800-1768175999@events.icnany.org
SUMMARY:YM Shelter Rock X Deer Park Skiing Trip
DESCRIPTION:The YM Deer Park and Shelter Rock chapters are planning a joint winter ski trip to promote brotherhood\, recreation\, and spiritual rejuvenation through a weekend of outdoor activity and reflection. This trip is designed to strengthen bonds among members while encouraging physical activity\, teamwork\, and Islamic values in a fun and structured environment. \n  \nLet’s talk money. Does $100 seem steep? Well\, here is the value that you will be provided: \n\nOvernight residence at the Poconos Mountains\nSkiing entry ticket + equipment rental\nComplimentary breakfast & dinner (free food!!!)\n\n  \nThis event was created to serve as a Ramadan fundraiser reward for Shelter Rock and Deer Park NN attendees only. Those who don’t attend one of the two will not be permitted to sign up. \nMinimum age to attend is 15 (sorry\, not sorry). Those under 15 need not apply. \nDisclaimer: Those who are under 15 or do not attend either Shelter Rock or Deer Park NNs\, yet still decide to apply\, even after reading through this\, may or may not be returned their money. By applying\, that is the gamble you’ll be willing to take.
URL:https://events.icnany.org/event/ym-sr-x-dp-skis/
LOCATION:Camelback Ski Resort\, 301 Resort Drive\, Tannersville\, PA\, 18372\, United States
ATTACH;FMTTYPE=image/png:https://events.icnany.org/wp-content/uploads/2025/11/Untitled-design.png
END:VEVENT
BEGIN:VEVENT
DTSTART;TZID=UTC:20260110T073000
DTEND;TZID=UTC:20260328T083000
DTSTAMP:20260423T231125
CREATED:20251227T040542Z
LAST-MODIFIED:20260112T011112Z
UID:10001021-1768030200-1774686600@events.icnany.org
SUMMARY:Sisters Only Self-Defense Program
DESCRIPTION:Registration Now Open: Sisters Self-Defense Program  \nAlhamdulillah\, ICNA Nassau is continuing our Sisters Self-Defense Program after the successful completion of the first 10-week session. This upcoming session builds on the same practical\, real-world self-defense training and is open to both returning participants and sisters joining for the first time. \nThis is a women-only class\, taught by a certified female instructor. No prior experience is needed — newcomers are absolutely welcome. \nWhat you’ll gain: \nPractical self-defense skills for everyday situations \nImproved fitness\, strength\, and confidence \nIncreased awareness and personal safety \nA safe\, supportive environment with other sisters \nProgram Details: \nStart Date: January 2026 \nDay & Time: Saturdays\, 7:30 am – 8:30 am \nSessions: 10 classes total \nFee: $200 (limited to 16 participants) \nOpen to women; teen girls are welcome. Together\, we’ll continue building skills\, health\, and sisterhood — Insha’Allah. \n📍 Location: ICNA Nassau Community Center1529 Jericho Turnpike\, New Hyde Park\, NY 11040 \n📲 Register today — spots are limited!
URL:https://events.icnany.org/event/sisters-only-self-defense-program/
LOCATION:ICNA Nassau Community Center\, 1529 Jericho Turnpike\, New Hyde Park\, NY\, 11040\, United States
ATTACH;FMTTYPE=image/jpeg:https://events.icnany.org/wp-content/uploads/2025/12/WhatsApp-Image-2026-01-10-at-12.43.12-scaled.jpeg
END:VEVENT
END:VCALENDAR