BEGIN:VCALENDAR
VERSION:2.0
PRODID:-//Events @ ICNA NY - ECPv6.15.20//NONSGML v1.0//EN
CALSCALE:GREGORIAN
METHOD:PUBLISH
X-ORIGINAL-URL:https://events.icnany.org
X-WR-CALDESC:Events for Events @ ICNA NY
REFRESH-INTERVAL;VALUE=DURATION:PT1H
X-Robots-Tag:noindex
X-PUBLISHED-TTL:PT1H
BEGIN:VTIMEZONE
TZID:America/New_York
BEGIN:DAYLIGHT
TZOFFSETFROM:-0500
TZOFFSETTO:-0400
TZNAME:EDT
DTSTART:20230312T070000
END:DAYLIGHT
BEGIN:STANDARD
TZOFFSETFROM:-0400
TZOFFSETTO:-0500
TZNAME:EST
DTSTART:20231105T060000
END:STANDARD
BEGIN:DAYLIGHT
TZOFFSETFROM:-0500
TZOFFSETTO:-0400
TZNAME:EDT
DTSTART:20240310T070000
END:DAYLIGHT
BEGIN:STANDARD
TZOFFSETFROM:-0400
TZOFFSETTO:-0500
TZNAME:EST
DTSTART:20241103T060000
END:STANDARD
BEGIN:DAYLIGHT
TZOFFSETFROM:-0500
TZOFFSETTO:-0400
TZNAME:EDT
DTSTART:20250309T070000
END:DAYLIGHT
BEGIN:STANDARD
TZOFFSETFROM:-0400
TZOFFSETTO:-0500
TZNAME:EST
DTSTART:20251102T060000
END:STANDARD
BEGIN:DAYLIGHT
TZOFFSETFROM:-0500
TZOFFSETTO:-0400
TZNAME:EDT
DTSTART:20260308T070000
END:DAYLIGHT
BEGIN:STANDARD
TZOFFSETFROM:-0400
TZOFFSETTO:-0500
TZNAME:EST
DTSTART:20261101T060000
END:STANDARD
END:VTIMEZONE
BEGIN:VTIMEZONE
TZID:UTC
BEGIN:STANDARD
TZOFFSETFROM:+0000
TZOFFSETTO:+0000
TZNAME:UTC
DTSTART:20230101T000000
END:STANDARD
END:VTIMEZONE
BEGIN:VEVENT
DTSTART;TZID=America/New_York:20250118T140000
DTEND;TZID=America/New_York:20250118T170000
DTSTAMP:20260425T124002
CREATED:20241206T172524Z
LAST-MODIFIED:20250118T174253Z
UID:10000919-1737208800-1737219600@events.icnany.org
SUMMARY:Striving for Change
DESCRIPTION:🌟 Join Us for an Afternoon of Hope\, Action\, and Change 🌟 \nIn a world where it often feels like hope is hard to come by\, let’s come together to rediscover the power of collective action and civic engagement. ICNA Council for Social Justice proudly presents: \n🎤 Striving for Change: A Civic Engagement Series for Young Professionals\nFeaturing Special Guest Speaker: Assemblyman Zohran Mamdani \n🗓️ Date: Saturday\, January 18th\, 2025\n⏰ Time: 2:00 PM\n📍 Location: ICNA Nassau Community Center\n1529 Jericho Turnpike\, New Hyde Park\, NY 11040 \nThis event is more than just a talk—it’s a call to action\, a chance to reconnect with your community\, and an opportunity to ignite hope in the face of adversity. Assemblyman Zohran Mamdani will share his insights on social justice\, advocacy\, and the transformative power of civic participation. \nWhether you’re a seasoned activist or someone looking to take your first steps toward meaningful engagement\, this event is for YOU. Together\, we’ll explore how to challenge the status quo\, amplify our voices\, and build a future grounded in justice and equity. \n💡 Why Attend? \n\nBe inspired by impactful ideas and stories.\nConnect with community members passionate about change.\nLearn actionable steps to make a difference in your own sphere of influence.\n\n✨ Let’s create a ripple effect of hope and progress—one conversation\, one connection\, one step at a time. \n👉 Reserve your spot today! Don’t miss this chance to be part of a movement that turns challenges into opportunities for growth and justice. \n🌍 Together\, we can strive for change. Together\, we can make a difference.
URL:https://events.icnany.org/event/striving-for-change/
LOCATION:ICNA Nassau Community Center\, 1529 Jericho Turnpike\, New Hyde Park\, NY\, 11040\, United States
CATEGORIES:Civic Engagement,Community
ATTACH;FMTTYPE=image/jpeg:https://events.icnany.org/wp-content/uploads/2024/12/Jan-18-25-Zohran.jpeg
END:VEVENT
BEGIN:VEVENT
DTSTART;TZID=America/New_York:20250118T130000
DTEND;TZID=America/New_York:20250118T210000
DTSTAMP:20260425T124002
CREATED:20241225T215033Z
LAST-MODIFIED:20250114T030013Z
UID:10000921-1737205200-1737234000@events.icnany.org
SUMMARY:Points for Palestine - Charity Sports Tournament
DESCRIPTION:🏐🏀 Play\, Compete\, and Make a Difference for Palestine! 🇵🇸 \nICNA Nassau\, YM NY\, MCSC\, and PALI Coalition proudly present Points for Palestine — a volleyball and basketball tournament to raise funds for Palestine relief. \n🌟 All proceeds will go to HHRD for Palestine Relief Efforts 🌟 \n📅 Date: Saturday\, January 18th\, 2025\n⏰ Time \n\nSisters: 1:00 PM – 4:00 PM\nBrothers: 5:00 PM – 9:00 PM\n📍 Location: Fieldhouse (5600 Old Sunrise Highway\, Massapequa\, NY\, 11758)\n💵 Entry Fee: $20 per player\n\n✨ How to Join: \n\nSign up as a team with your friends (Each team member must register separately)\n\nBasketball 4v4: Teams of 5 (includes one sub)\nVolleyball 6v6: Teams of 7 (includes one sub)\n\n\nRegister as a free agent and we’ll place you on a team. Everyone is welcome!\n\n💡 Deadline to Register: January 10th \nThis is more than just a tournament — it’s an opportunity to stand in solidarity\, compete with purpose\, and make a real impact for Palestine. \nLet’s score points that truly matter. Sign up today and bring your A-game! \nFor questions/concerns: (516)-655-7599 \nNote: Brother’s Basketball is at capacity and now CLOSED!
URL:https://events.icnany.org/event/pointsforpalestine/
LOCATION:Fieldhouse\, 5600 Old Sunrise Hwy\, Massapequa\, NY\, 11758\, United States
ATTACH;FMTTYPE=image/jpeg:https://events.icnany.org/wp-content/uploads/2024/12/c1ad14a3-1b9b-474b-a18f-fe7c71faed45.jpg
END:VEVENT
BEGIN:VEVENT
DTSTART;TZID=America/New_York:20241214T160000
DTEND;TZID=America/New_York:20241214T220000
DTSTAMP:20260425T124002
CREATED:20241124T191713Z
LAST-MODIFIED:20241214T023547Z
UID:10000918-1734192000-1734213600@events.icnany.org
SUMMARY:Reverts Winter Conference
DESCRIPTION:
URL:https://events.icnany.org/event/reverts-winter-conference/
LOCATION:Agra Palace\, 116-33 Queens Blvd\, Forest Hills\, NY\, 11375\, United States
CATEGORIES:Banquets,Reverts
ATTACH;FMTTYPE=image/png:https://events.icnany.org/wp-content/uploads/2024/11/Elegant-Snowfall-Winter-Inspiring-Quote-Instagram-Post.png
END:VEVENT
BEGIN:VEVENT
DTSTART;TZID=UTC:20241130T140000
DTEND;TZID=UTC:20241130T170000
DTSTAMP:20260425T124002
CREATED:20240810T053402Z
LAST-MODIFIED:20240815T162715Z
UID:10000655-1732975200-1732986000@events.icnany.org
SUMMARY:New Muslims and Beginner's Islamic Classes
DESCRIPTION:
URL:https://events.icnany.org/event/new-muslims-and-beginners-islamic-classes/2024-11-30/
LOCATION:NY
CATEGORIES:Classes,Reverts
ATTACH;FMTTYPE=image/jpeg:https://events.icnany.org/wp-content/uploads/2024/08/New-Muslims-Class-Updated-Flyer-2024-1.jpg
END:VEVENT
BEGIN:VEVENT
DTSTART;TZID=UTC:20241123T140000
DTEND;TZID=UTC:20241123T170000
DTSTAMP:20260425T124002
CREATED:20240810T053402Z
LAST-MODIFIED:20240815T162715Z
UID:10000654-1732370400-1732381200@events.icnany.org
SUMMARY:New Muslims and Beginner's Islamic Classes
DESCRIPTION:
URL:https://events.icnany.org/event/new-muslims-and-beginners-islamic-classes/2024-11-23/
LOCATION:NY
CATEGORIES:Classes,Reverts
ATTACH;FMTTYPE=image/jpeg:https://events.icnany.org/wp-content/uploads/2024/08/New-Muslims-Class-Updated-Flyer-2024-1.jpg
END:VEVENT
BEGIN:VEVENT
DTSTART;TZID=UTC:20241116T140000
DTEND;TZID=UTC:20241116T170000
DTSTAMP:20260425T124002
CREATED:20240810T053402Z
LAST-MODIFIED:20240815T162715Z
UID:10000653-1731765600-1731776400@events.icnany.org
SUMMARY:New Muslims and Beginner's Islamic Classes
DESCRIPTION:
URL:https://events.icnany.org/event/new-muslims-and-beginners-islamic-classes/2024-11-16/
LOCATION:NY
CATEGORIES:Classes,Reverts
ATTACH;FMTTYPE=image/jpeg:https://events.icnany.org/wp-content/uploads/2024/08/New-Muslims-Class-Updated-Flyer-2024-1.jpg
END:VEVENT
BEGIN:VEVENT
DTSTART;TZID=UTC:20241109T140000
DTEND;TZID=UTC:20241109T170000
DTSTAMP:20260425T124002
CREATED:20240810T053402Z
LAST-MODIFIED:20240815T162715Z
UID:10000652-1731160800-1731171600@events.icnany.org
SUMMARY:New Muslims and Beginner's Islamic Classes
DESCRIPTION:
URL:https://events.icnany.org/event/new-muslims-and-beginners-islamic-classes/2024-11-09/
LOCATION:NY
CATEGORIES:Classes,Reverts
ATTACH;FMTTYPE=image/jpeg:https://events.icnany.org/wp-content/uploads/2024/08/New-Muslims-Class-Updated-Flyer-2024-1.jpg
END:VEVENT
BEGIN:VEVENT
DTSTART;TZID=UTC:20241102T140000
DTEND;TZID=UTC:20241102T170000
DTSTAMP:20260425T124002
CREATED:20240810T053402Z
LAST-MODIFIED:20240815T162715Z
UID:10000651-1730556000-1730566800@events.icnany.org
SUMMARY:New Muslims and Beginner's Islamic Classes
DESCRIPTION:
URL:https://events.icnany.org/event/new-muslims-and-beginners-islamic-classes/2024-11-02/
LOCATION:NY
CATEGORIES:Classes,Reverts
ATTACH;FMTTYPE=image/jpeg:https://events.icnany.org/wp-content/uploads/2024/08/New-Muslims-Class-Updated-Flyer-2024-1.jpg
END:VEVENT
BEGIN:VEVENT
DTSTART;TZID=UTC:20241026T140000
DTEND;TZID=UTC:20241026T170000
DTSTAMP:20260425T124002
CREATED:20240810T053402Z
LAST-MODIFIED:20240815T162715Z
UID:10000650-1729951200-1729962000@events.icnany.org
SUMMARY:New Muslims and Beginner's Islamic Classes
DESCRIPTION:
URL:https://events.icnany.org/event/new-muslims-and-beginners-islamic-classes/2024-10-26/
LOCATION:NY
CATEGORIES:Classes,Reverts
ATTACH;FMTTYPE=image/jpeg:https://events.icnany.org/wp-content/uploads/2024/08/New-Muslims-Class-Updated-Flyer-2024-1.jpg
END:VEVENT
BEGIN:VEVENT
DTSTART;TZID=UTC:20241020T173000
DTEND;TZID=UTC:20241020T220000
DTSTAMP:20260425T124002
CREATED:20240910T183427Z
LAST-MODIFIED:20241001T045736Z
UID:10000656-1729445400-1729461600@events.icnany.org
SUMMARY:Annual ICNA NY Banquet
DESCRIPTION:The Islamic Circle of North America – New York (ICNA-NY) is excited to announce our upcoming annual banquet\, highlighting Champions of Change that challenge injustice and oppression and work to build a more just society. We look forward to hosting you at Pearl Banquet Hall in Hicksville\, NY on October 20\, 2024. \n\n\nEvent Details: \n\nDate and time: Sunday October 20\, 2024\, 5:30 P.M.\nVenue: Pearl Banquet Hall\, 276 W Old Country Rd\, Hicksville\, NY 11801.\nFree Parking\, congregational Maghreb prayer on-site.\nFor sponsorship opportunities and questions\, please email info@icnany.org for more details.
URL:https://events.icnany.org/event/annual-banquet/
LOCATION:NY
CATEGORIES:Banquets,Community
ATTACH;FMTTYPE=image/png:https://events.icnany.org/wp-content/uploads/2024/09/IMG_6578.png
END:VEVENT
BEGIN:VEVENT
DTSTART;TZID=UTC:20241019T140000
DTEND;TZID=UTC:20241019T170000
DTSTAMP:20260425T124002
CREATED:20240810T053402Z
LAST-MODIFIED:20240815T162715Z
UID:10000649-1729346400-1729357200@events.icnany.org
SUMMARY:New Muslims and Beginner's Islamic Classes
DESCRIPTION:
URL:https://events.icnany.org/event/new-muslims-and-beginners-islamic-classes/2024-10-19/
LOCATION:NY
CATEGORIES:Classes,Reverts
ATTACH;FMTTYPE=image/jpeg:https://events.icnany.org/wp-content/uploads/2024/08/New-Muslims-Class-Updated-Flyer-2024-1.jpg
END:VEVENT
BEGIN:VEVENT
DTSTART;TZID=UTC:20241012T140000
DTEND;TZID=UTC:20241012T170000
DTSTAMP:20260425T124002
CREATED:20240810T053402Z
LAST-MODIFIED:20240815T162715Z
UID:10000648-1728741600-1728752400@events.icnany.org
SUMMARY:New Muslims and Beginner's Islamic Classes
DESCRIPTION:
URL:https://events.icnany.org/event/new-muslims-and-beginners-islamic-classes/2024-10-12/
LOCATION:NY
CATEGORIES:Classes,Reverts
ATTACH;FMTTYPE=image/jpeg:https://events.icnany.org/wp-content/uploads/2024/08/New-Muslims-Class-Updated-Flyer-2024-1.jpg
END:VEVENT
BEGIN:VEVENT
DTSTART;TZID=UTC:20241005T140000
DTEND;TZID=UTC:20241005T170000
DTSTAMP:20260425T124002
CREATED:20240810T053402Z
LAST-MODIFIED:20240815T162715Z
UID:10000647-1728136800-1728147600@events.icnany.org
SUMMARY:New Muslims and Beginner's Islamic Classes
DESCRIPTION:
URL:https://events.icnany.org/event/new-muslims-and-beginners-islamic-classes/2024-10-05/
LOCATION:NY
CATEGORIES:Classes,Reverts
ATTACH;FMTTYPE=image/jpeg:https://events.icnany.org/wp-content/uploads/2024/08/New-Muslims-Class-Updated-Flyer-2024-1.jpg
END:VEVENT
BEGIN:VEVENT
DTSTART;TZID=UTC:20240928T140000
DTEND;TZID=UTC:20240928T170000
DTSTAMP:20260425T124002
CREATED:20240810T053402Z
LAST-MODIFIED:20240815T162715Z
UID:10000629-1727532000-1727542800@events.icnany.org
SUMMARY:New Muslims and Beginner's Islamic Classes
DESCRIPTION:
URL:https://events.icnany.org/event/new-muslims-and-beginners-islamic-classes/2024-09-28/
LOCATION:NY
CATEGORIES:Classes,Reverts
ATTACH;FMTTYPE=image/jpeg:https://events.icnany.org/wp-content/uploads/2024/08/New-Muslims-Class-Updated-Flyer-2024-1.jpg
END:VEVENT
BEGIN:VEVENT
DTSTART;TZID=UTC:20240925T080000
DTEND;TZID=UTC:20241015T170000
DTSTAMP:20260425T124002
CREATED:20240925T021506Z
LAST-MODIFIED:20240926T150503Z
UID:10000917-1727251200-1729011600@events.icnany.org
SUMMARY:Monday Night Sisters Halaqa Signup
DESCRIPTION:Content is protected.
URL:https://events.icnany.org/event/monday-night-halaqa-signup/
LOCATION:ICNA Nassau Community Center\, 1529 Jericho Turnpike\, New Hyde Park\, NY\, 11040\, United States
END:VEVENT
BEGIN:VEVENT
DTSTART;TZID=UTC:20240921T140000
DTEND;TZID=UTC:20240921T170000
DTSTAMP:20260425T124002
CREATED:20240810T053402Z
LAST-MODIFIED:20240815T162715Z
UID:10000628-1726927200-1726938000@events.icnany.org
SUMMARY:New Muslims and Beginner's Islamic Classes
DESCRIPTION:
URL:https://events.icnany.org/event/new-muslims-and-beginners-islamic-classes/2024-09-21/
LOCATION:NY
CATEGORIES:Classes,Reverts
ATTACH;FMTTYPE=image/jpeg:https://events.icnany.org/wp-content/uploads/2024/08/New-Muslims-Class-Updated-Flyer-2024-1.jpg
END:VEVENT
BEGIN:VEVENT
DTSTART;TZID=UTC:20240914T140000
DTEND;TZID=UTC:20240914T170000
DTSTAMP:20260425T124002
CREATED:20240810T053402Z
LAST-MODIFIED:20240815T162715Z
UID:10000627-1726322400-1726333200@events.icnany.org
SUMMARY:New Muslims and Beginner's Islamic Classes
DESCRIPTION:
URL:https://events.icnany.org/event/new-muslims-and-beginners-islamic-classes/2024-09-14/
LOCATION:NY
CATEGORIES:Classes,Reverts
ATTACH;FMTTYPE=image/jpeg:https://events.icnany.org/wp-content/uploads/2024/08/New-Muslims-Class-Updated-Flyer-2024-1.jpg
END:VEVENT
BEGIN:VEVENT
DTSTART;TZID=UTC:20240907T140000
DTEND;TZID=UTC:20240907T170000
DTSTAMP:20260425T124002
CREATED:20240810T053402Z
LAST-MODIFIED:20240815T162715Z
UID:10000626-1725717600-1725728400@events.icnany.org
SUMMARY:New Muslims and Beginner's Islamic Classes
DESCRIPTION:
URL:https://events.icnany.org/event/new-muslims-and-beginners-islamic-classes/2024-09-07/
LOCATION:NY
CATEGORIES:Classes,Reverts
ATTACH;FMTTYPE=image/jpeg:https://events.icnany.org/wp-content/uploads/2024/08/New-Muslims-Class-Updated-Flyer-2024-1.jpg
END:VEVENT
BEGIN:VEVENT
DTSTART;TZID=UTC:20240831T140000
DTEND;TZID=UTC:20240831T170000
DTSTAMP:20260425T124002
CREATED:20240810T053402Z
LAST-MODIFIED:20240815T162715Z
UID:10000625-1725112800-1725123600@events.icnany.org
SUMMARY:New Muslims and Beginner's Islamic Classes
DESCRIPTION:
URL:https://events.icnany.org/event/new-muslims-and-beginners-islamic-classes/2024-08-31/
LOCATION:NY
CATEGORIES:Classes,Reverts
ATTACH;FMTTYPE=image/jpeg:https://events.icnany.org/wp-content/uploads/2024/08/New-Muslims-Class-Updated-Flyer-2024-1.jpg
END:VEVENT
BEGIN:VEVENT
DTSTART;TZID=UTC:20240824T143000
DTEND;TZID=UTC:20240824T180000
DTSTAMP:20260425T124002
CREATED:20240709T180033Z
LAST-MODIFIED:20240814T203455Z
UID:10000527-1724509800-1724522400@events.icnany.org
SUMMARY:ICNA Nassau County Career Fair
DESCRIPTION:ICNA Nassau County Career Fair 2024 \n🗓️ Date: August 24th\, 2024\n🕝 Time: 2:30 PM – 6:00 PM \nLocation: ICNA Nassau Community Center – 1529 Jericho Tpke\, New Hyde Park\, NY 11040 \nAre you unsure about which career path to pursue? The ICNA Nassau County Career Fair is the perfect place for you! Join us to explore a wide range of professions and gain valuable insights from industry experts. \nWhy Attend? \n– Diverse Speakers: Listen to and interact with speakers from various professions.\n– Career Guidance: Receive advice and guidance on different career paths.\n– Q&A Sessions: Ask questions and get answers directly from professionals. \nThis event is a fantastic opportunity to discover your future career. Don’t miss out—register now and take the first step towards your dream job!
URL:https://events.icnany.org/event/career-fair/
LOCATION:ICNA Nassau Community Center\, 1529 Jericho Turnpike\, New Hyde Park\, NY\, 11040\, United States
CATEGORIES:Community,Workshops
ATTACH;FMTTYPE=image/jpeg:https://events.icnany.org/wp-content/uploads/2024/07/b4e9b614-1525-4950-941e-004830c7711f.jpeg
END:VEVENT
BEGIN:VEVENT
DTSTART;TZID=UTC:20240818T100000
DTEND;TZID=UTC:20240818T123000
DTSTAMP:20260425T124002
CREATED:20240805T154405Z
LAST-MODIFIED:20240815T042618Z
UID:10000529-1723975200-1723984200@events.icnany.org
SUMMARY:Bringing Rewild to ICNA: From Seed to Sanctuary Workshop
DESCRIPTION:Bringing Rewild to ICNA: From Seed to Sanctuary Workshop \nLearn how you can create a thriving native habitat to support vulnerable monarch butterflies from your own home! \nGuest speakers: \nRaju Rajan\, Cynthia Zhang\, Safa & Hasana Sayeed – ReWild Zunair Ahmed – ICNA \nFamily-friendly activities \nTake home a native plant!!
URL:https://events.icnany.org/event/bringing-rewild-to-icna-from-seed-to-sanctuary-workshop/
LOCATION:ICNA Nassau Community Center\, 1529 Jericho Turnpike\, New Hyde Park\, NY\, 11040\, United States
CATEGORIES:Community,Workshops
ATTACH;FMTTYPE=image/jpeg:https://events.icnany.org/wp-content/uploads/2024/08/3EE4D3B4-9040-4C31-A693-A1DB25EBF96B.jpeg
END:VEVENT
BEGIN:VEVENT
DTSTART;TZID=UTC:20240810T140000
DTEND;TZID=UTC:20240810T170000
DTSTAMP:20260425T124002
CREATED:20240810T053402Z
LAST-MODIFIED:20240815T162715Z
UID:10000644-1723298400-1723309200@events.icnany.org
SUMMARY:New Muslims and Beginner's Islamic Classes
DESCRIPTION:
URL:https://events.icnany.org/event/new-muslims-and-beginners-islamic-classes/2024-08-10/
LOCATION:NY
CATEGORIES:Classes,Reverts
ATTACH;FMTTYPE=image/jpeg:https://events.icnany.org/wp-content/uploads/2024/08/New-Muslims-Class-Updated-Flyer-2024-1.jpg
END:VEVENT
BEGIN:VEVENT
DTSTART;TZID=UTC:20240803T140000
DTEND;TZID=UTC:20240803T170000
DTSTAMP:20260425T124002
CREATED:20240810T053402Z
LAST-MODIFIED:20240815T162715Z
UID:10000643-1722693600-1722704400@events.icnany.org
SUMMARY:New Muslims and Beginner's Islamic Classes
DESCRIPTION:
URL:https://events.icnany.org/event/new-muslims-and-beginners-islamic-classes/2024-08-03/
LOCATION:NY
CATEGORIES:Classes,Reverts
ATTACH;FMTTYPE=image/jpeg:https://events.icnany.org/wp-content/uploads/2024/08/New-Muslims-Class-Updated-Flyer-2024-1.jpg
END:VEVENT
BEGIN:VEVENT
DTSTART;TZID=UTC:20240727T140000
DTEND;TZID=UTC:20240727T170000
DTSTAMP:20260425T124002
CREATED:20240810T053402Z
LAST-MODIFIED:20240815T162715Z
UID:10000642-1722088800-1722099600@events.icnany.org
SUMMARY:New Muslims and Beginner's Islamic Classes
DESCRIPTION:
URL:https://events.icnany.org/event/new-muslims-and-beginners-islamic-classes/2024-07-27/
LOCATION:NY
CATEGORIES:Classes,Reverts
ATTACH;FMTTYPE=image/jpeg:https://events.icnany.org/wp-content/uploads/2024/08/New-Muslims-Class-Updated-Flyer-2024-1.jpg
END:VEVENT
BEGIN:VEVENT
DTSTART;TZID=UTC:20240720T140000
DTEND;TZID=UTC:20240720T170000
DTSTAMP:20260425T124002
CREATED:20240810T053402Z
LAST-MODIFIED:20240815T162715Z
UID:10000641-1721484000-1721494800@events.icnany.org
SUMMARY:New Muslims and Beginner's Islamic Classes
DESCRIPTION:
URL:https://events.icnany.org/event/new-muslims-and-beginners-islamic-classes/2024-07-20/
LOCATION:NY
CATEGORIES:Classes,Reverts
ATTACH;FMTTYPE=image/jpeg:https://events.icnany.org/wp-content/uploads/2024/08/New-Muslims-Class-Updated-Flyer-2024-1.jpg
END:VEVENT
BEGIN:VEVENT
DTSTART;TZID=UTC:20240720T110000
DTEND;TZID=UTC:20240720T233000
DTSTAMP:20260425T124002
CREATED:20240604T042753Z
LAST-MODIFIED:20240708T173818Z
UID:10000048-1721473200-1721518200@events.icnany.org
SUMMARY:ICNA NY Annual BBQ & Family Picnic
DESCRIPTION:ICNA New York warmly invites you and your family to our annual BBQ! Join us for a fun-filled day featuring games\, networking with fellow Muslim families\, and other exciting activities. Enjoy the beautiful outdoors and take advantage of additional amenities like boating (extra charges apply) provided by Belmont State Park. We look forward to seeing you there! Please register ASAP before our registration deadline to ensure you’ve secured your seat. \nICNA NY Annual BBQ Family Picnic \nDate: Saturday\, July 20th \nVenue: Belmont Lake State Park\nPine Pavilion\n625 Belmont Ave\, West Babylon\, NY 11704\n(Exit 38 – Southern State Pkwy) \nSchedule: \n\nStart Time: 12:00 PM\nDhur Prayer: 1:15 PM\nFood Serving: 1:30 PM\n\nRegistration Fees: \n\nAdults: $20 per person\nChildren (5-12 years): $10 per child\nChildren under 5 years: Free\n\nRegistration: \n\nLast Day to Register: July 15th\nNo on-site registration due to limited food supplies.\nRegister Online: events.icnany.org\n\nContact: \n\nFor more details\, contact Navaid Baqi at 347-593-4590\nPhone: (718) 658-1199 Ext 101\nEmail: info@icnany.org\n\nOrganized by: ICNA New York and ICNA Sisters
URL:https://events.icnany.org/event/bbq/
LOCATION:Belmont Lake State Park\, 625 Belmont Ave\, West Babylon\, NY 11704\, NY\, 11704\, United States
CATEGORIES:BBQ,Community
ATTACH;FMTTYPE=image/jpeg:https://events.icnany.org/wp-content/uploads/2024/06/05f73b68-07ed-4d4c-be82-95ceb749ddbf.jpg
ORGANIZER;CN="ICNA NY":MAILTO:info@icnany.org
END:VEVENT
BEGIN:VEVENT
DTSTART;TZID=UTC:20240715T150000
DTEND;TZID=UTC:20240904T180000
DTSTAMP:20260425T124002
CREATED:20240621T190209Z
LAST-MODIFIED:20240621T192208Z
UID:10000051-1721055600-1725472800@events.icnany.org
SUMMARY:Digital SAT Prep Course
DESCRIPTION:Join us for ICNA Nassau’s Summer Digital SAT Prep Course with Sr Sanjana\, a seasoned educator with over 5 years of experience in exam preparation. With her expertise in the new Digital SAT format and a track record of academic success\, Sr Sanjana will guide you through 48 hours of expert tutoring\, along with 1 diagnostic and 2 practice exams. Enhance your skills and achieve your best possible SAT score this summer! Limited spots are available\, so secure your place now!
URL:https://events.icnany.org/event/digital-sat-prep-course/
LOCATION:ICNA Nassau Community Center\, 1529 Jericho Turnpike\, New Hyde Park\, NY\, 11040\, United States
CATEGORIES:Classes
ATTACH;FMTTYPE=image/jpeg:https://events.icnany.org/wp-content/uploads/2024/06/6be26b96-8aea-4fc2-a516-d95ffaa8051a.jpeg
END:VEVENT
BEGIN:VEVENT
DTSTART;TZID=UTC:20240713T140000
DTEND;TZID=UTC:20240713T170000
DTSTAMP:20260425T124002
CREATED:20240810T053402Z
LAST-MODIFIED:20240815T162715Z
UID:10000640-1720879200-1720890000@events.icnany.org
SUMMARY:New Muslims and Beginner's Islamic Classes
DESCRIPTION:
URL:https://events.icnany.org/event/new-muslims-and-beginners-islamic-classes/2024-07-13/
LOCATION:NY
CATEGORIES:Classes,Reverts
ATTACH;FMTTYPE=image/jpeg:https://events.icnany.org/wp-content/uploads/2024/08/New-Muslims-Class-Updated-Flyer-2024-1.jpg
END:VEVENT
BEGIN:VEVENT
DTSTART;TZID=UTC:20240706T140000
DTEND;TZID=UTC:20240706T170000
DTSTAMP:20260425T124002
CREATED:20240810T053402Z
LAST-MODIFIED:20240815T162715Z
UID:10000639-1720274400-1720285200@events.icnany.org
SUMMARY:New Muslims and Beginner's Islamic Classes
DESCRIPTION:
URL:https://events.icnany.org/event/new-muslims-and-beginners-islamic-classes/2024-07-06/
LOCATION:NY
CATEGORIES:Classes,Reverts
ATTACH;FMTTYPE=image/jpeg:https://events.icnany.org/wp-content/uploads/2024/08/New-Muslims-Class-Updated-Flyer-2024-1.jpg
END:VEVENT
BEGIN:VEVENT
DTSTART;TZID=UTC:20240629T120000
DTEND;TZID=UTC:20240629T180000
DTSTAMP:20260425T124002
CREATED:20240610T112832Z
LAST-MODIFIED:20240611T200511Z
UID:10000049-1719662400-1719684000@events.icnany.org
SUMMARY:Eid BBQ and Potluck
DESCRIPTION:Embrace NY is excited to invite you to our Eid BBQ and Potluck in collaboration with ICNA Nassau and MABL NY!! 🌙✨ \nCelebrate Eid with a sizzle! Join us for a BBQ and Potluck filled with tasty treats and warm company 🔥 Let’s feast and make memories together this Eid! 💛🤍 \n 
URL:https://events.icnany.org/event/eid-bbq-potluck/
LOCATION:Cunningham Park\, 196-10 Union Tpke\, Fresh Meadows\, NY\, 11366\, United States
CATEGORIES:BBQ,Community,Reverts
ATTACH;FMTTYPE=image/jpeg:https://events.icnany.org/wp-content/uploads/2024/06/a62fa021-7940-486e-b905-0e216e05f28e.jpeg
END:VEVENT
END:VCALENDAR