BEGIN:VCALENDAR
VERSION:2.0
PRODID:-//Events @ ICNA NY - ECPv6.15.20//NONSGML v1.0//EN
CALSCALE:GREGORIAN
METHOD:PUBLISH
X-WR-CALNAME:Events @ ICNA NY
X-ORIGINAL-URL:https://events.icnany.org
X-WR-CALDESC:Events for Events @ ICNA NY
REFRESH-INTERVAL;VALUE=DURATION:PT1H
X-Robots-Tag:noindex
X-PUBLISHED-TTL:PT1H
BEGIN:VTIMEZONE
TZID:UTC
BEGIN:STANDARD
TZOFFSETFROM:+0000
TZOFFSETTO:+0000
TZNAME:UTC
DTSTART:20230101T000000
END:STANDARD
END:VTIMEZONE
BEGIN:VEVENT
DTSTART;TZID=UTC:20240224T180000
DTEND;TZID=UTC:20240224T210000
DTSTAMP:20260425T103435
CREATED:20240206T185053Z
LAST-MODIFIED:20240206T185053Z
UID:10000015-1708797600-1708808400@events.icnany.org
SUMMARY:PASNY and CAIR-NY Symposium
DESCRIPTION:PASNY is excited to invite you to our upcoming event in collaboration with CAIR-NY. Join us to empower yourself with knowledge about your legal rights with our guest speaker Afaf Nasher\, Esq.\, Executive Director of CAIR-NY.\nClick the link to RSVP. http://tinyurl.com/52f74k6v\nPLEASE RSVP BY: Wednesday\, February 21st
URL:https://events.icnany.org/event/pasny-and-cair-ny-symposium/
LOCATION:ICNA Nassau Community Center\, 1529 Jericho Turnpike\, New Hyde Park\, NY\, 11040\, United States
CATEGORIES:Civic Engagement
ATTACH;FMTTYPE=:
END:VEVENT
BEGIN:VEVENT
DTSTART;TZID=UTC:20240217T163000
DTEND;TZID=UTC:20240217T210000
DTSTAMP:20260425T103435
CREATED:20240206T172332Z
LAST-MODIFIED:20240206T172332Z
UID:10000014-1708187400-1708203600@events.icnany.org
SUMMARY:Film Screening: Gaza Fights For Freedom
DESCRIPTION:The brutal siege on Gaza has now lasted over 120 days\, with Israeli bombs now dropping on the “safe zone” Rafah and upwards of 27\,000 Palestinian people killed thus far. This genocide is unprecedented not only in the visibility of its horrors\, but also in the longstanding policies of apartheid and ethnic cleansing perpetuated since the founding of the state of Israel. The oppression of Palestinians in Gaza began far before this siege\, and it is imperative that we learn that history as we continue to demand for an immediate ceasefire and the right of return of every displaced Palestinian. \nJoin us on Saturday\, February 17th as we watch a powerful documentary covering many aspect of that history: the Empire File’s “Gaza Fights for Freedom.”
URL:https://events.icnany.org/event/film-screening-gaza-fights-for-freedom/
LOCATION:ICNA Nassau Community Center\, 1529 Jericho Turnpike\, New Hyde Park\, NY\, 11040\, United States
CATEGORIES:Film Viewing
ATTACH;FMTTYPE=:
END:VEVENT
BEGIN:VEVENT
DTSTART;TZID=UTC:20240217T140000
DTEND;TZID=UTC:20240217T150000
DTSTAMP:20260425T103435
CREATED:20240215T053220Z
LAST-MODIFIED:20240215T053220Z
UID:10000017-1708178400-1708182000@events.icnany.org
SUMMARY:Dawah Workshop
DESCRIPTION:
URL:https://events.icnany.org/event/dawah-workshop/
LOCATION:ICNA Nassau Community Center\, 1529 Jericho Turnpike\, New Hyde Park\, NY\, 11040\, United States
CATEGORIES:Workshops
ATTACH;FMTTYPE=:
END:VEVENT
BEGIN:VEVENT
DTSTART;TZID=UTC:20240205T123000
DTEND;TZID=UTC:20240205T140000
DTSTAMP:20260425T103435
CREATED:20240131T215439Z
LAST-MODIFIED:20240131T215439Z
UID:10000013-1707136200-1707141600@events.icnany.org
SUMMARY:Mommy & Me
DESCRIPTION:AsSalamu Alaikum everyone! 🌟 Exciting news! \nThe ICNA Nassau Community Center is kicking off a “Mommy and Me” program! 🍼👶Sign up here! \nIt’s going to be a great time with snacks 🍪 and crafts 🎨 for all kids from 0 – 4 to enjoy. Plus\, it’s a fantastic opportunity to connect with other moms while the little ones have a blast playing. \nJoin us every Monday from 12:30pm to 2pm. Just a $5 entrance fee. Can’t wait to see you and your kiddos there! 💕👩‍👧‍👦
URL:https://events.icnany.org/event/mommy-me/
LOCATION:ICNA Nassau Community Center\, 1529 Jericho Turnpike\, New Hyde Park\, NY\, 11040\, United States
CATEGORIES:Mommy & Me
ATTACH;FMTTYPE=:
END:VEVENT
BEGIN:VEVENT
DTSTART;TZID=UTC:20240113T070000
DTEND;TZID=UTC:20240113T220000
DTSTAMP:20260425T103435
CREATED:20231228T233628Z
LAST-MODIFIED:20231228T233628Z
UID:10000018-1705129200-1705183200@events.icnany.org
SUMMARY:BUS REGISTRATION - JAMAICA - SOLD OUT
DESCRIPTION:MARCH ON WASHINGTON FOR GAZA – BUS REGISTRATION – JAMAICA\nICNA invites you to join a pivotal protest in Washington\, DC on January 13\, 2024. Gather at 166-26 89th Ave\, Jamaica\, NY 11432 for a 7:00 AM departure and contribute to a day of meaningful advocacy. We’ll be returning from DC at 5:00 PM. This is an opportunity to unite our voices and stand for our values. Please ensure punctuality and come prepared for the day. Let’s stand together in solidarity and make a difference!
URL:https://events.icnany.org/event/bus-to-washington-jamaica-2/
LOCATION:ICNA AL MARKAZ\, 166-26 89th Ave\, Jamaica\, NY\, 11432\, United States
CATEGORIES:Protests
ATTACH;FMTTYPE=:
ORGANIZER;CN="ICNA NY":MAILTO:info@icnany.org
END:VEVENT
BEGIN:VEVENT
DTSTART;TZID=UTC:20240113T070000
DTEND;TZID=UTC:20240113T220000
DTSTAMP:20260425T103435
CREATED:20231228T233628Z
LAST-MODIFIED:20231228T233628Z
UID:10000001-1705129200-1705183200@events.icnany.org
SUMMARY:BUS REGISTRATION - JAMAICA - SOLD OUT
DESCRIPTION:MARCH ON WASHINGTON FOR GAZA – BUS REGISTRATION – JAMAICA\nICNA invites you to join a pivotal protest in Washington\, DC on January 13\, 2024. Gather at 166-26 89th Ave\, Jamaica\, NY 11432 for a 7:00 AM departure and contribute to a day of meaningful advocacy. We’ll be returning from DC at 5:00 PM. This is an opportunity to unite our voices and stand for our values. Please ensure punctuality and come prepared for the day. Let’s stand together in solidarity and make a difference!
URL:https://events.icnany.org/event/bus-to-washington-jamaica/
LOCATION:ICNA AL MARKAZ\, 166-26 89th Ave\, Jamaica\, NY\, 11432\, United States
CATEGORIES:Protests
ATTACH;FMTTYPE=:
ORGANIZER;CN="ICNA NY":MAILTO:info@icnany.org
END:VEVENT
END:VCALENDAR