BEGIN:VCALENDAR
VERSION:2.0
PRODID:-//Events @ ICNA NY - ECPv6.15.20//NONSGML v1.0//EN
CALSCALE:GREGORIAN
METHOD:PUBLISH
X-WR-CALNAME:Events @ ICNA NY
X-ORIGINAL-URL:https://events.icnany.org
X-WR-CALDESC:Events for Events @ ICNA NY
REFRESH-INTERVAL;VALUE=DURATION:PT1H
X-Robots-Tag:noindex
X-PUBLISHED-TTL:PT1H
BEGIN:VTIMEZONE
TZID:UTC
BEGIN:STANDARD
TZOFFSETFROM:+0000
TZOFFSETTO:+0000
TZNAME:UTC
DTSTART:20230101T000000
END:STANDARD
END:VTIMEZONE
BEGIN:VEVENT
DTSTART;TZID=UTC:20240330T183000
DTEND;TZID=UTC:20240330T200000
DTSTAMP:20260425T022315
CREATED:20240318T223900Z
LAST-MODIFIED:20240328T183404Z
UID:10000041-1711823400-1711828800@events.icnany.org
SUMMARY:Grand Iftar - ICNA Nassau Community Center
DESCRIPTION:We are thrilled to extend a warm invitation to our cherished community for a Grand Iftar at the ICNA Nassau Community Center. The holy month of Ramadan is a time of reflection\, devotion\, and unity\, and what better way to celebrate this blessed period than by breaking our fast together in harmony and fellowship. \nEvent Details: \n\nDate: Saturday\, March 30th\nTime: 6:30 PM – 8:00 PM\nLocation: ICNA Nassau Community Center\n\nThis special evening will be an opportunity for brothers and sisters to come together\, share in the blessings of Ramadan\, and strengthen the bonds of our community. The iftar will be hosted by the community center\, and we will provide a food to break our fast\, followed by Maghrib prayer in congregation. \nWe encourage everyone to join us for this spiritually uplifting event. Let us embrace the spirit of Ramadan and create cherished memories as we break our fast in unity. \nFor any inquiries or to volunteer for the event\, please do not hesitate to contact us. We look forward to welcoming you and your loved ones to this beautiful gathering. \nWarm regards\, ICNA Nassau Community Center \nContact (347) 829 – 9696
URL:https://events.icnany.org/event/grand-iftar-icna-nassau-community-center/
LOCATION:ICNA Nassau Community Center\, 1529 Jericho Turnpike\, New Hyde Park\, NY\, 11040\, United States
CATEGORIES:Community
ATTACH;FMTTYPE=image/jpeg:https://events.icnany.org/wp-content/uploads/2024/03/WhatsApp-Image-2024-03-18-at-17.11.03.jpeg
END:VEVENT
END:VCALENDAR